BEGIN:VCALENDAR
VERSION:2.0
PRODID:-//UKPEN.EU - ECPv6.15.20//NONSGML v1.0//EN
CALSCALE:GREGORIAN
METHOD:PUBLISH
X-ORIGINAL-URL:https://ukpen.eu
X-WR-CALDESC:Events for UKPEN.EU
REFRESH-INTERVAL;VALUE=DURATION:PT1H
X-Robots-Tag:noindex
X-PUBLISHED-TTL:PT1H
BEGIN:VTIMEZONE
TZID:Europe/London
BEGIN:DAYLIGHT
TZOFFSETFROM:+0000
TZOFFSETTO:+0100
TZNAME:BST
DTSTART:20250330T010000
END:DAYLIGHT
BEGIN:STANDARD
TZOFFSETFROM:+0100
TZOFFSETTO:+0000
TZNAME:GMT
DTSTART:20251026T010000
END:STANDARD
BEGIN:DAYLIGHT
TZOFFSETFROM:+0000
TZOFFSETTO:+0100
TZNAME:BST
DTSTART:20260329T010000
END:DAYLIGHT
BEGIN:STANDARD
TZOFFSETFROM:+0100
TZOFFSETTO:+0000
TZNAME:GMT
DTSTART:20261025T010000
END:STANDARD
BEGIN:DAYLIGHT
TZOFFSETFROM:+0000
TZOFFSETTO:+0100
TZNAME:BST
DTSTART:20270328T010000
END:DAYLIGHT
BEGIN:STANDARD
TZOFFSETFROM:+0100
TZOFFSETTO:+0000
TZNAME:GMT
DTSTART:20271031T010000
END:STANDARD
END:VTIMEZONE
BEGIN:VEVENT
DTSTART;TZID=Europe/London:20260424T161921
DTEND;TZID=Europe/London:20260424T161921
DTSTAMP:20260424T161921
CREATED:20190828T220626Z
LAST-MODIFIED:20190828T220626Z
UID:2404-1777047561-1777047561@ukpen.eu
SUMMARY:PROTEST FOR DEMOCRACY
DESCRIPTION:NOTE: the date\, time and location are provisional\, but at the moment I cannot find another event on Facebook for Shrewsbury so I wanted to make a start.\n—————————————————- \nThis is a protest against the decision by Boris Johnson to ask the Queen to temporarily suspend Parliament. \nDeliberately shutting down the democratic work of elected MPs in order to force through a No Deal exit from the EU is an abuse of powers of the Prime Minister.  \nTo circumvent elected officials from trying to come to a solution is shutting down not only their voices but all of ours.  \nWe disagree.  \nThere is currently no plan: bring placards\, bring your voices\, bring your cheer and goodwill. And\, looking at the weather right now\, bring an umbrella.  \n#stopthecoup
URL:https://ukpen.eu/event/protest-for-democracy/
CATEGORIES:Local
END:VEVENT
END:VCALENDAR