BEGIN:VCALENDAR
VERSION:2.0
PRODID:-//UKPEN.EU - ECPv6.15.20//NONSGML v1.0//EN
CALSCALE:GREGORIAN
METHOD:PUBLISH
X-WR-CALNAME:UKPEN.EU
X-ORIGINAL-URL:https://ukpen.eu
X-WR-CALDESC:Events for UKPEN.EU
REFRESH-INTERVAL;VALUE=DURATION:PT1H
X-Robots-Tag:noindex
X-PUBLISHED-TTL:PT1H
BEGIN:VTIMEZONE
TZID:Europe/London
BEGIN:DAYLIGHT
TZOFFSETFROM:+0000
TZOFFSETTO:+0100
TZNAME:BST
DTSTART:20250330T010000
END:DAYLIGHT
BEGIN:STANDARD
TZOFFSETFROM:+0100
TZOFFSETTO:+0000
TZNAME:GMT
DTSTART:20251026T010000
END:STANDARD
BEGIN:DAYLIGHT
TZOFFSETFROM:+0000
TZOFFSETTO:+0100
TZNAME:BST
DTSTART:20260329T010000
END:DAYLIGHT
BEGIN:STANDARD
TZOFFSETFROM:+0100
TZOFFSETTO:+0000
TZNAME:GMT
DTSTART:20261025T010000
END:STANDARD
BEGIN:DAYLIGHT
TZOFFSETFROM:+0000
TZOFFSETTO:+0100
TZNAME:BST
DTSTART:20270328T010000
END:DAYLIGHT
BEGIN:STANDARD
TZOFFSETFROM:+0100
TZOFFSETTO:+0000
TZNAME:GMT
DTSTART:20271031T010000
END:STANDARD
END:VTIMEZONE
BEGIN:VEVENT
DTSTART;TZID=Europe/London:20260424T161642
DTEND;TZID=Europe/London:20260424T161642
DTSTAMP:20260424T161642
CREATED:20190828T200720Z
LAST-MODIFIED:20190828T200720Z
UID:2391-1777047402-1777047402@ukpen.eu
SUMMARY:Umbrellas For Democracy Protest
DESCRIPTION:Democracy is at risk under Borish Johnson\, and now he is trying to suspend the Parliament. Take to the Town Hall in Manchester  to make our voices heard and show that his actions are not going unnoticed!  \nInspired by the Umbrella Movement in Hong Kong\, so please bring one if possible and spread the word.  \nMeet you at Town Hall at Albert Memorial in Albert Sq at 4pm onwards.
URL:https://ukpen.eu/event/umbrellas-for-democracy-protest/
CATEGORIES:Local
END:VEVENT
END:VCALENDAR