BEGIN:VCALENDAR
VERSION:2.0
PRODID:-//UKPEN.EU - ECPv6.15.20//NONSGML v1.0//EN
CALSCALE:GREGORIAN
METHOD:PUBLISH
X-WR-CALNAME:UKPEN.EU
X-ORIGINAL-URL:https://ukpen.eu
X-WR-CALDESC:Events for UKPEN.EU
REFRESH-INTERVAL;VALUE=DURATION:PT1H
X-Robots-Tag:noindex
X-PUBLISHED-TTL:PT1H
BEGIN:VTIMEZONE
TZID:Europe/London
BEGIN:DAYLIGHT
TZOFFSETFROM:+0000
TZOFFSETTO:+0100
TZNAME:BST
DTSTART:20250330T010000
END:DAYLIGHT
BEGIN:STANDARD
TZOFFSETFROM:+0100
TZOFFSETTO:+0000
TZNAME:GMT
DTSTART:20251026T010000
END:STANDARD
BEGIN:DAYLIGHT
TZOFFSETFROM:+0000
TZOFFSETTO:+0100
TZNAME:BST
DTSTART:20260329T010000
END:DAYLIGHT
BEGIN:STANDARD
TZOFFSETFROM:+0100
TZOFFSETTO:+0000
TZNAME:GMT
DTSTART:20261025T010000
END:STANDARD
BEGIN:DAYLIGHT
TZOFFSETFROM:+0000
TZOFFSETTO:+0100
TZNAME:BST
DTSTART:20270328T010000
END:DAYLIGHT
BEGIN:STANDARD
TZOFFSETFROM:+0100
TZOFFSETTO:+0000
TZNAME:GMT
DTSTART:20271031T010000
END:STANDARD
END:VTIMEZONE
BEGIN:VEVENT
DTSTART;TZID=Europe/London:20260424T144254
DTEND;TZID=Europe/London:20260424T144254
DTSTAMP:20260424T144254
CREATED:20190915T092334Z
LAST-MODIFIED:20190915T092334Z
UID:2607-1777041774-1777041774@ukpen.eu
SUMMARY:Defend Our Democracy - Brighton
DESCRIPTION:On Tuesday 17 September the Supreme Court – the highest court in the UK – will hear the case on Johnson’s suspension of Parliament. Protests will be held in London\, and in towns up and down the country. \nJoin us outside Brighton Law Court\, Edward Street\, Brighton  BN2 0LG at 8am. \nFor maximum impact\, let’s keep the event completely focused on defending our democratic parliament\, our free courts and our human rights. Suggestion to wear black and make banners focusing on our support for the rule of law\, calling for the government to be held to account. (On this occasion\, please don’t bring EU flags\, T-shirts\, banners etc.) \n 
URL:https://ukpen.eu/event/defend-our-democracy-2/
CATEGORIES:Local
END:VEVENT
END:VCALENDAR