BEGIN:VCALENDAR
VERSION:2.0
PRODID:-//UKPEN.EU - ECPv6.15.20//NONSGML v1.0//EN
CALSCALE:GREGORIAN
METHOD:PUBLISH
X-ORIGINAL-URL:https://ukpen.eu
X-WR-CALDESC:Events for UKPEN.EU
REFRESH-INTERVAL;VALUE=DURATION:PT1H
X-Robots-Tag:noindex
X-PUBLISHED-TTL:PT1H
BEGIN:VTIMEZONE
TZID:Europe/London
BEGIN:DAYLIGHT
TZOFFSETFROM:+0000
TZOFFSETTO:+0100
TZNAME:BST
DTSTART:20250330T010000
END:DAYLIGHT
BEGIN:STANDARD
TZOFFSETFROM:+0100
TZOFFSETTO:+0000
TZNAME:GMT
DTSTART:20251026T010000
END:STANDARD
BEGIN:DAYLIGHT
TZOFFSETFROM:+0000
TZOFFSETTO:+0100
TZNAME:BST
DTSTART:20260329T010000
END:DAYLIGHT
BEGIN:STANDARD
TZOFFSETFROM:+0100
TZOFFSETTO:+0000
TZNAME:GMT
DTSTART:20261025T010000
END:STANDARD
BEGIN:DAYLIGHT
TZOFFSETFROM:+0000
TZOFFSETTO:+0100
TZNAME:BST
DTSTART:20270328T010000
END:DAYLIGHT
BEGIN:STANDARD
TZOFFSETFROM:+0100
TZOFFSETTO:+0000
TZNAME:GMT
DTSTART:20271031T010000
END:STANDARD
END:VTIMEZONE
BEGIN:VEVENT
DTSTART;TZID=Europe/London:20260423T041711
DTEND;TZID=Europe/London:20260423T041711
DTSTAMP:20260423T041711
CREATED:20231120T195154Z
LAST-MODIFIED:20231120T195154Z
UID:8041-1776917831-1776917831@ukpen.eu
SUMMARY:Brexit and Businesses: In Their Own Words
DESCRIPTION:Based on testimonies and feedback from businesses up and down the country\, the European Movement’s report highlights multiple challenges\, from new Brexit red tape\, a lack of workers\, and huge hikes in overheads. \nChaired by the author of the report\, Maura McKeon (Local Campaigns Manager)\, we will hear from Barbara Callender\, Baroness Joyce Quin and a panel of small business owners\, about their views on the report\, the impact of Brexit on business today and what we\, as a movement\, can do next.
URL:https://ukpen.eu/event/brexit-and-businesses-in-their-own-words/
CATEGORIES:Trade
END:VEVENT
END:VCALENDAR