BEGIN:VCALENDAR
VERSION:2.0
PRODID:-//UKPEN.EU - ECPv6.15.20//NONSGML v1.0//EN
CALSCALE:GREGORIAN
METHOD:PUBLISH
X-ORIGINAL-URL:https://ukpen.eu
X-WR-CALDESC:Events for UKPEN.EU
REFRESH-INTERVAL;VALUE=DURATION:PT1H
X-Robots-Tag:noindex
X-PUBLISHED-TTL:PT1H
BEGIN:VTIMEZONE
TZID:Europe/London
BEGIN:DAYLIGHT
TZOFFSETFROM:+0000
TZOFFSETTO:+0100
TZNAME:BST
DTSTART:20250330T010000
END:DAYLIGHT
BEGIN:STANDARD
TZOFFSETFROM:+0100
TZOFFSETTO:+0000
TZNAME:GMT
DTSTART:20251026T010000
END:STANDARD
BEGIN:DAYLIGHT
TZOFFSETFROM:+0000
TZOFFSETTO:+0100
TZNAME:BST
DTSTART:20260329T010000
END:DAYLIGHT
BEGIN:STANDARD
TZOFFSETFROM:+0100
TZOFFSETTO:+0000
TZNAME:GMT
DTSTART:20261025T010000
END:STANDARD
BEGIN:DAYLIGHT
TZOFFSETFROM:+0000
TZOFFSETTO:+0100
TZNAME:BST
DTSTART:20270328T010000
END:DAYLIGHT
BEGIN:STANDARD
TZOFFSETFROM:+0100
TZOFFSETTO:+0000
TZNAME:GMT
DTSTART:20271031T010000
END:STANDARD
END:VTIMEZONE
BEGIN:VEVENT
DTSTART;TZID=Europe/London:20260422T035718
DTEND;TZID=Europe/London:20260422T035718
DTSTAMP:20260422T035718
CREATED:20200901T205825Z
LAST-MODIFIED:20200901T205825Z
UID:5171-1776830238-1776830238@ukpen.eu
SUMMARY:EU Citizens in the UK - Rodda MP\, Remigi\, and Hawkins - Eurocafé Berkshire
DESCRIPTION:Open Britain Reading\, Berkshire for Europe and Euro Cafe Berkshire invite you to a FREE webinar…\n\n\nMatt Rodda\, MP Reading East will be joining Elena Remigi\, Founder and Co-Editor of the “In Limbo” Series and Monique Hawkins from The3Million to give us an update on life for EU Citizens in the UK right now\n\n\n· Elena Remigi will share from the latest edition of her book stories of EU Citizens and their Settled Status experiences.\n\n\n· Matt Rodda will be speak from his day to day experiences of working with EU Citizens in the Reading community and his top concerns and good news stories.\n\n\n· Monique Hawkins will update us on the The3million’s current initiative of DeniedMyBackup – getting a physical backup to digital immigration status.\n\n\nWe will also explore some steps we can all take as activists to support the EU citizens in our communities.\n\n\nRegister here https://eu-citizens-16558347715.eventbrite.com for free and we will send you the links to the zoom conference on the day.\n\n\n#InLimbo #MattRodda #The3million #deniedmybackup #settledstatus #EU #EuroCafe #OpenBritain #BerkshireforEurope #Berkshire
URL:https://ukpen.eu/event/eu-citizens-in-the-uk-rodda-mp-remigi-and-hawkins-eurocafe-berkshire/
CATEGORIES:Local,National,Settled status,Webinar
END:VEVENT
BEGIN:VEVENT
DTSTART;TZID=Europe/London:20260422T035718
DTEND;TZID=Europe/London:20260422T035718
DTSTAMP:20260422T035718
CREATED:20200812T094115Z
LAST-MODIFIED:20200812T094115Z
UID:5063-1776830238-1776830238@ukpen.eu
SUMMARY:the3million #DeniedMyBackup Webinar
DESCRIPTION:Topic \nDeniedMyBackup: Take action with the3million for a physical backup to digital immigration status\n\nDescription \nImagine you urgently need a job\, or are looking for a place to live\, and as part of the process you need to prove you have the right to live in the UK. But your passport is no longer enough\, and you have no biometric residence card as proof – just a code to enter into the Home Office database. Just as the landlord or employer logs on to check your ID\, the system crashes\, and you are passed over for someone else whose proof is easier to check. \nAnd that’s not all – to get that code in the first place\, you need not only your passport but also access to the right email address or mobile number that the status was originally linked to. If someone else helped you set this up\, perhaps years ago\, can you imagine the stress of trying to deal with the Home Office website just to prove you have the right to live and work? \nThat may be part of daily life for many EU citizens after 31 December this year\, as the only group of foreign residents in the UK with a digital-only immigration status and no backup option of physical proof. \nthe3million is inviting you to our webinar and Q&A on why EU citizens should have the option for physical proof of immigration status. We’re meeting on Zoom\, Thursday 27 August at 7pm – please register by filling in this form. \nThe panel will be chaired by Luke Piper (the3million) and include Emily McCarron from Age UK who will explain the consequences of a digital-only scheme for older EU citizens\, Monique Hawkins from the3million\, Ian Robinson from Fragomen\, and Ollie Persey from the Public Law Project. There will be short statements at the beginning\, and plenty of time to ask questions. \nThe webinar is open to all and will be recorded and live streamed on the3million’s social media. If you have any difficulties receiving your registration details\, please email research@the3million.org.uk.
URL:https://ukpen.eu/event/the3million-deniedmybackup-webinar/
CATEGORIES:National,Settled status
END:VEVENT
BEGIN:VEVENT
DTSTART;TZID=Europe/London:20260422T035718
DTEND;TZID=Europe/London:20260422T035718
DTSTAMP:20260422T035718
CREATED:20200810T170806Z
LAST-MODIFIED:20200810T170806Z
UID:5055-1776830238-1776830238@ukpen.eu
SUMMARY:"Settled" event online for Czech and Slovak citizens in UK
DESCRIPTION:
URL:https://ukpen.eu/event/settled-event-online-for-czech-and-slovak-citizens-in-uk/
CATEGORIES:National,Settled status
END:VEVENT
BEGIN:VEVENT
DTSTART;TZID=Europe/London:20260422T035718
DTEND;TZID=Europe/London:20260422T035718
DTSTAMP:20260422T035718
CREATED:20200810T165632Z
LAST-MODIFIED:20200810T165632Z
UID:5044-1776830238-1776830238@ukpen.eu
SUMMARY:EU Settlement Scheme Information Session. Online event by Advice NI
DESCRIPTION:Free advice for gaining EU settled status in the UK\n\n\n\n\n\n\nAdvice NI have joined up with Black & Minority Ethnic Women’s Network to provide EU Settlement Scheme Information Sessions via Zoom.\n\n\n  \nhttps://www.eventbrite.co.uk/e/eu-settlement-scheme-information-session-tickets-115507838053?aff=ebdssbonlinesearch#listing-organizer
URL:https://ukpen.eu/event/eu-settlement-scheme-information-session-online-event-by-advice-ni/
CATEGORIES:National,Settled status
END:VEVENT
END:VCALENDAR