BEGIN:VCALENDAR
VERSION:2.0
PRODID:-//UKPEN.EU - ECPv6.15.20//NONSGML v1.0//EN
CALSCALE:GREGORIAN
METHOD:PUBLISH
X-WR-CALNAME:UKPEN.EU
X-ORIGINAL-URL:https://ukpen.eu
X-WR-CALDESC:Events for UKPEN.EU
REFRESH-INTERVAL;VALUE=DURATION:PT1H
X-Robots-Tag:noindex
X-PUBLISHED-TTL:PT1H
BEGIN:VTIMEZONE
TZID:Europe/London
BEGIN:DAYLIGHT
TZOFFSETFROM:+0000
TZOFFSETTO:+0100
TZNAME:BST
DTSTART:20250330T010000
END:DAYLIGHT
BEGIN:STANDARD
TZOFFSETFROM:+0100
TZOFFSETTO:+0000
TZNAME:GMT
DTSTART:20251026T010000
END:STANDARD
BEGIN:DAYLIGHT
TZOFFSETFROM:+0000
TZOFFSETTO:+0100
TZNAME:BST
DTSTART:20260329T010000
END:DAYLIGHT
BEGIN:STANDARD
TZOFFSETFROM:+0100
TZOFFSETTO:+0000
TZNAME:GMT
DTSTART:20261025T010000
END:STANDARD
BEGIN:DAYLIGHT
TZOFFSETFROM:+0000
TZOFFSETTO:+0100
TZNAME:BST
DTSTART:20270328T010000
END:DAYLIGHT
BEGIN:STANDARD
TZOFFSETFROM:+0100
TZOFFSETTO:+0000
TZNAME:GMT
DTSTART:20271031T010000
END:STANDARD
END:VTIMEZONE
BEGIN:VEVENT
DTSTART;TZID=Europe/London:20260421T154423
DTEND;TZID=Europe/London:20260421T154423
DTSTAMP:20260421T154423
CREATED:20201104T162532Z
LAST-MODIFIED:20201104T162532Z
UID:5263-1776786263-1776786263@ukpen.eu
SUMMARY:Catherine Barnard - Where we go from here - NE Surrey for Europe
DESCRIPTION:Zoom meeting on Thursday 14th January 2021 from 7.00 pm \nMore details to follow later \nMoVEM \nMole Valley European Movement \nTwitter:      https://twitter.com/movem2017 \ntogether with: \nNorth East Surrey for Europe \nEmail: info@NES4EU.co.uk \nFacebook:     https://www.facebook.com/NorthEastSurreyForEurope/
URL:https://ukpen.eu/event/catherine-barnard-where-we-go-from-here-ne-surrey-for-europe/
CATEGORIES:Local,National
END:VEVENT
END:VCALENDAR