BEGIN:VCALENDAR
VERSION:2.0
PRODID:-//UKPEN.EU - ECPv6.15.20//NONSGML v1.0//EN
CALSCALE:GREGORIAN
METHOD:PUBLISH
X-WR-CALNAME:UKPEN.EU
X-ORIGINAL-URL:https://ukpen.eu
X-WR-CALDESC:Events for UKPEN.EU
REFRESH-INTERVAL;VALUE=DURATION:PT1H
X-Robots-Tag:noindex
X-PUBLISHED-TTL:PT1H
BEGIN:VTIMEZONE
TZID:Europe/London
BEGIN:DAYLIGHT
TZOFFSETFROM:+0000
TZOFFSETTO:+0100
TZNAME:BST
DTSTART:20250330T010000
END:DAYLIGHT
BEGIN:STANDARD
TZOFFSETFROM:+0100
TZOFFSETTO:+0000
TZNAME:GMT
DTSTART:20251026T010000
END:STANDARD
BEGIN:DAYLIGHT
TZOFFSETFROM:+0000
TZOFFSETTO:+0100
TZNAME:BST
DTSTART:20260329T010000
END:DAYLIGHT
BEGIN:STANDARD
TZOFFSETFROM:+0100
TZOFFSETTO:+0000
TZNAME:GMT
DTSTART:20261025T010000
END:STANDARD
BEGIN:DAYLIGHT
TZOFFSETFROM:+0000
TZOFFSETTO:+0100
TZNAME:BST
DTSTART:20270328T010000
END:DAYLIGHT
BEGIN:STANDARD
TZOFFSETFROM:+0100
TZOFFSETTO:+0000
TZNAME:GMT
DTSTART:20271031T010000
END:STANDARD
END:VTIMEZONE
BEGIN:VEVENT
DTSTART;TZID=Europe/London:20260421T202317
DTEND;TZID=Europe/London:20260421T202317
DTSTAMP:20260421T202317
CREATED:20201104T125451Z
LAST-MODIFIED:20201104T125451Z
UID:5253-1776802997-1776802997@ukpen.eu
SUMMARY:Vicky Pryce  Ignore the Myths – Here’s the Maths
DESCRIPTION:A talk on the latest economic analysis in relation to the impact of Brexit after the transition period \nVicky Pryce is the former Joint Head of the United Kingdom’s Government Economic Service and previously Chief Economist at KPMG.  At the LSE\, she gained a BSc in Economics and an MSc in Monetary Economics.  She serves on the Department for Business Innovation and Skills panel.  She co-authored “It’s the Economy\, Stupid: Economics for Voters” and has recently published “Women vs Capitalism: Why We Can’t Have It All in a Free Market Economy”. She is a regular panel member at the LSE European Institute discussions. \nClick this link to register: \nhttps://www.eventbrite.co.uk/e/ignore-the-myths-heres-the-maths-vicky-pryce-the-economics-of-brexit-tickets-124334982279?aff=ebdssbonlinesearch \nMoVEM \nMole Valley European Movement \nTwitter:      https://twitter.com/movem2017 \ntogether with: \nNorth East Surrey for Europe \nEmail: info@NES4EU.co.uk \nFacebook:     https://www.facebook.com/NorthEastSurreyForEurope/
URL:https://ukpen.eu/event/vicky-pryce-ignore-the-myths-heres-the-maths/
CATEGORIES:Local,National,Trade
END:VEVENT
END:VCALENDAR