BEGIN:VCALENDAR
VERSION:2.0
PRODID:-//UKPEN.EU - ECPv6.15.20//NONSGML v1.0//EN
CALSCALE:GREGORIAN
METHOD:PUBLISH
X-WR-CALNAME:UKPEN.EU
X-ORIGINAL-URL:https://ukpen.eu
X-WR-CALDESC:Events for UKPEN.EU
REFRESH-INTERVAL;VALUE=DURATION:PT1H
X-Robots-Tag:noindex
X-PUBLISHED-TTL:PT1H
BEGIN:VTIMEZONE
TZID:Europe/London
BEGIN:DAYLIGHT
TZOFFSETFROM:+0000
TZOFFSETTO:+0100
TZNAME:BST
DTSTART:20250330T010000
END:DAYLIGHT
BEGIN:STANDARD
TZOFFSETFROM:+0100
TZOFFSETTO:+0000
TZNAME:GMT
DTSTART:20251026T010000
END:STANDARD
BEGIN:DAYLIGHT
TZOFFSETFROM:+0000
TZOFFSETTO:+0100
TZNAME:BST
DTSTART:20260329T010000
END:DAYLIGHT
BEGIN:STANDARD
TZOFFSETFROM:+0100
TZOFFSETTO:+0000
TZNAME:GMT
DTSTART:20261025T010000
END:STANDARD
BEGIN:DAYLIGHT
TZOFFSETFROM:+0000
TZOFFSETTO:+0100
TZNAME:BST
DTSTART:20270328T010000
END:DAYLIGHT
BEGIN:STANDARD
TZOFFSETFROM:+0100
TZOFFSETTO:+0000
TZNAME:GMT
DTSTART:20271031T010000
END:STANDARD
END:VTIMEZONE
BEGIN:VEVENT
DTSTART;TZID=Europe/London:20260421T220120
DTEND;TZID=Europe/London:20260421T220120
DTSTAMP:20260421T220120
CREATED:20200810T173104Z
LAST-MODIFIED:20200810T173104Z
UID:5060-1776808880-1776808880@ukpen.eu
SUMMARY:WEBINAR "The European Parliament and future EU-UK trade relations"
DESCRIPTION:With the end of the transition period approaching fast\, what lies in store for the future of EU-UK trade?\n\n\n\n\n\n\nAbout this Event\n\n\nAs the UK prepares to leave the regulatory infrastructure of the single market and customs union at the end of the year\, the executives in both the UK and EU are racing to negotiate the shape of the future relationship between them. We turn our attention to this crucial issue and ask what lies in store for the future of EU-UK trade. \nJoin us for an exciting live webinar on September 3rd 12:30-2:00pm BST to hear from our expert panellists. \n\n\n\n\nSPEAKERS: \n\n\nBernd LANGE MEP \, Chair of the Committee on International Trade\, member of the UK Coordination Group \, \, European Parliament \nAngus Brendan MACNEIL MP\, Chair of the International Trade Committee\, House of Commons \nDr. Meredith A. CROWLEY \, International Trade Economist \, University of Cambridge \n\n\nCHAIR: \nGeorgina WRIGHT\, Senior Researcher\, Institute for Government
URL:https://ukpen.eu/event/webinar-the-european-parliament-and-future-eu-uk-trade-relations/
CATEGORIES:National,Trade,Webinar
END:VEVENT
BEGIN:VEVENT
DTSTART;TZID=Europe/London:20260421T220120
DTEND;TZID=Europe/London:20260421T220120
DTSTAMP:20260421T220120
CREATED:20200901T210846Z
LAST-MODIFIED:20200901T210846Z
UID:5176-1776808880-1776808880@ukpen.eu
SUMMARY:Britain's Road Back to Europe\, WIll Hutton Webinar - Grassroots for Europe
DESCRIPTION:
URL:https://ukpen.eu/event/britains-road-back-to-europe-will-hutton-webinar-grassroots-for-europe/
CATEGORIES:Grassroots Meetings,National,Rejoin
END:VEVENT
END:VCALENDAR