BEGIN:VCALENDAR
VERSION:2.0
PRODID:-//UKPEN.EU - ECPv6.15.20//NONSGML v1.0//EN
CALSCALE:GREGORIAN
METHOD:PUBLISH
X-ORIGINAL-URL:https://ukpen.eu
X-WR-CALDESC:Events for UKPEN.EU
REFRESH-INTERVAL;VALUE=DURATION:PT1H
X-Robots-Tag:noindex
X-PUBLISHED-TTL:PT1H
BEGIN:VTIMEZONE
TZID:Europe/London
BEGIN:DAYLIGHT
TZOFFSETFROM:+0000
TZOFFSETTO:+0100
TZNAME:BST
DTSTART:20250330T010000
END:DAYLIGHT
BEGIN:STANDARD
TZOFFSETFROM:+0100
TZOFFSETTO:+0000
TZNAME:GMT
DTSTART:20251026T010000
END:STANDARD
BEGIN:DAYLIGHT
TZOFFSETFROM:+0000
TZOFFSETTO:+0100
TZNAME:BST
DTSTART:20260329T010000
END:DAYLIGHT
BEGIN:STANDARD
TZOFFSETFROM:+0100
TZOFFSETTO:+0000
TZNAME:GMT
DTSTART:20261025T010000
END:STANDARD
BEGIN:DAYLIGHT
TZOFFSETFROM:+0000
TZOFFSETTO:+0100
TZNAME:BST
DTSTART:20270328T010000
END:DAYLIGHT
BEGIN:STANDARD
TZOFFSETFROM:+0100
TZOFFSETTO:+0000
TZNAME:GMT
DTSTART:20271031T010000
END:STANDARD
END:VTIMEZONE
BEGIN:VEVENT
DTSTART;TZID=Europe/London:20260422T011455
DTEND;TZID=Europe/London:20260422T011455
DTSTAMP:20260422T011455
CREATED:20200812T094115Z
LAST-MODIFIED:20200812T094115Z
UID:5063-1776820495-1776820495@ukpen.eu
SUMMARY:the3million #DeniedMyBackup Webinar
DESCRIPTION:Topic \nDeniedMyBackup: Take action with the3million for a physical backup to digital immigration status\n\nDescription \nImagine you urgently need a job\, or are looking for a place to live\, and as part of the process you need to prove you have the right to live in the UK. But your passport is no longer enough\, and you have no biometric residence card as proof – just a code to enter into the Home Office database. Just as the landlord or employer logs on to check your ID\, the system crashes\, and you are passed over for someone else whose proof is easier to check. \nAnd that’s not all – to get that code in the first place\, you need not only your passport but also access to the right email address or mobile number that the status was originally linked to. If someone else helped you set this up\, perhaps years ago\, can you imagine the stress of trying to deal with the Home Office website just to prove you have the right to live and work? \nThat may be part of daily life for many EU citizens after 31 December this year\, as the only group of foreign residents in the UK with a digital-only immigration status and no backup option of physical proof. \nthe3million is inviting you to our webinar and Q&A on why EU citizens should have the option for physical proof of immigration status. We’re meeting on Zoom\, Thursday 27 August at 7pm – please register by filling in this form. \nThe panel will be chaired by Luke Piper (the3million) and include Emily McCarron from Age UK who will explain the consequences of a digital-only scheme for older EU citizens\, Monique Hawkins from the3million\, Ian Robinson from Fragomen\, and Ollie Persey from the Public Law Project. There will be short statements at the beginning\, and plenty of time to ask questions. \nThe webinar is open to all and will be recorded and live streamed on the3million’s social media. If you have any difficulties receiving your registration details\, please email research@the3million.org.uk.
URL:https://ukpen.eu/event/the3million-deniedmybackup-webinar/
CATEGORIES:National,Settled status
END:VEVENT
END:VCALENDAR