BEGIN:VCALENDAR
VERSION:2.0
PRODID:-//UKPEN.EU - ECPv6.15.20//NONSGML v1.0//EN
CALSCALE:GREGORIAN
METHOD:PUBLISH
X-WR-CALNAME:UKPEN.EU
X-ORIGINAL-URL:https://ukpen.eu
X-WR-CALDESC:Events for UKPEN.EU
REFRESH-INTERVAL;VALUE=DURATION:PT1H
X-Robots-Tag:noindex
X-PUBLISHED-TTL:PT1H
BEGIN:VTIMEZONE
TZID:Europe/London
BEGIN:DAYLIGHT
TZOFFSETFROM:+0000
TZOFFSETTO:+0100
TZNAME:BST
DTSTART:20250330T010000
END:DAYLIGHT
BEGIN:STANDARD
TZOFFSETFROM:+0100
TZOFFSETTO:+0000
TZNAME:GMT
DTSTART:20251026T010000
END:STANDARD
BEGIN:DAYLIGHT
TZOFFSETFROM:+0000
TZOFFSETTO:+0100
TZNAME:BST
DTSTART:20260329T010000
END:DAYLIGHT
BEGIN:STANDARD
TZOFFSETFROM:+0100
TZOFFSETTO:+0000
TZNAME:GMT
DTSTART:20261025T010000
END:STANDARD
BEGIN:DAYLIGHT
TZOFFSETFROM:+0000
TZOFFSETTO:+0100
TZNAME:BST
DTSTART:20270328T010000
END:DAYLIGHT
BEGIN:STANDARD
TZOFFSETFROM:+0100
TZOFFSETTO:+0000
TZNAME:GMT
DTSTART:20271031T010000
END:STANDARD
END:VTIMEZONE
BEGIN:VEVENT
DTSTART;TZID=Europe/London:20260422T011233
DTEND;TZID=Europe/London:20260422T011233
DTSTAMP:20260422T011233
CREATED:20200816T155231Z
LAST-MODIFIED:20200816T155231Z
UID:5084-1776820353-1776820353@ukpen.eu
SUMMARY:We own it : Not a penny more to Serco - Give local\, public teams the cash
DESCRIPTION:NATIONAL DAY OF ACTION ON TRACK AND TRACE CONTRACTS – TUESDAY 18TH AUGUST\nMatt Hancock needs to scrap Serco and Sitel’s failed contracts now instead of renewing them on August 23rd. \nThe government must give the £528 million allocated for these contract extension to local authorities and Public Health England teams instead. Privatised track and trace has been a disaster that is costing lives. \nIt’s time to put local public health teams in charge of the whole system. They have the tools and the local knowledge they need to do this vital work before any second wave this winter. Now they need the money. \nPLEASE JOIN OUR DAY OF ACTION ON TUESDAY 18TH TO SAY: NOT A PENNY MORE TO SERCO – GIVE LOCAL AUTHORITIES THE CASH!\n\nOrganise a group to meet at your local authority building or landmark\, (or Serco site if you’re nearby).\n\nRemember to bring a camera!\n\n\nDownload and print this picture of a penny\n\nto take with you\, along with this placard \n\nand bring one penny per person for the photo! Alternatively you can make a bigger cardboard cut out of a penny! \n\nRemember to check out guidelines on how to stay safe and stay socially distanced. Gloves\, hand sanitiser and masks are a must and We Own It can reimburse you for them!\n\n\nLet us know you’re organising the action. We’ll help with the local press! Email Chris at christopher@weownit.org.uk\nLet others know! Make a Facebook event too and invite other people who might be able to join! Main Facebook event here.\nYou can also let your local radio or newspaper know that you’re organising this.\nOn the day\, make sure to share your photos with us at info@weownit.org.uk.\nShare the action on social media tagging us on twitter\, facebook and instagram too.\nLastly\, email your picture to Matt Hancock directly!\n\nCan’t make an action in person? \nSend your ‘Not a penny more’ message to Matt Hancock. You could take a photo\, ideally with you in it\, holding a penny\, to share on social media for example. \nMake sure to tag Matt Hancock (Here’s his Twitter and Facebook) and include the caption: \nNot a penny more to Serco – Give local\, public teams the cash! Sign now: https://weownit.org.uk/save-lives-scrap-serco-now \nPrivatised track and trace has been a disaster that is costing lives. It’s time to put local public health teams in charge of the whole system. \nJoin in a Day of Action on Tuesday 18th to show you support safe\, local track and trace for your community!  \nACTIONS ALREADY ORGANISED\n\nWandsworth Town Hall – 12pm\nSheffield Town Hall – 12:30pm\nWallasey Town Hall – 11:00am\nDarlington Town Hall – 12:30pm\nHackney Town Hall – 12:30pm\nLeamington Town Hall – 11am\nBristol – College Green\, outside Bristol City Hall – 12pm\nSunderland Centre – 10:30am\nSouthampton Civic Centre – 16:30pm\nBrent town hall – 12pm\nLiverpool Town Hall – 12pm\nLeeds Civic Hall – 1pm
URL:https://ukpen.eu/event/we-own-it-not-a-penny-more-to-serco-give-local-public-teams-the-cash/
CATEGORIES:National,Public Services
END:VEVENT
BEGIN:VEVENT
DTSTART;TZID=Europe/London:20260422T011233
DTEND;TZID=Europe/London:20260422T011233
DTSTAMP:20260422T011233
CREATED:20200810T170806Z
LAST-MODIFIED:20200810T170806Z
UID:5055-1776820353-1776820353@ukpen.eu
SUMMARY:"Settled" event online for Czech and Slovak citizens in UK
DESCRIPTION:
URL:https://ukpen.eu/event/settled-event-online-for-czech-and-slovak-citizens-in-uk/
CATEGORIES:National,Settled status
END:VEVENT
END:VCALENDAR