BEGIN:VCALENDAR
VERSION:2.0
PRODID:-//UKPEN.EU - ECPv6.15.20//NONSGML v1.0//EN
CALSCALE:GREGORIAN
METHOD:PUBLISH
X-ORIGINAL-URL:https://ukpen.eu
X-WR-CALDESC:Events for UKPEN.EU
REFRESH-INTERVAL;VALUE=DURATION:PT1H
X-Robots-Tag:noindex
X-PUBLISHED-TTL:PT1H
BEGIN:VTIMEZONE
TZID:Europe/London
BEGIN:DAYLIGHT
TZOFFSETFROM:+0000
TZOFFSETTO:+0100
TZNAME:BST
DTSTART:20250330T010000
END:DAYLIGHT
BEGIN:STANDARD
TZOFFSETFROM:+0100
TZOFFSETTO:+0000
TZNAME:GMT
DTSTART:20251026T010000
END:STANDARD
BEGIN:DAYLIGHT
TZOFFSETFROM:+0000
TZOFFSETTO:+0100
TZNAME:BST
DTSTART:20260329T010000
END:DAYLIGHT
BEGIN:STANDARD
TZOFFSETFROM:+0100
TZOFFSETTO:+0000
TZNAME:GMT
DTSTART:20261025T010000
END:STANDARD
BEGIN:DAYLIGHT
TZOFFSETFROM:+0000
TZOFFSETTO:+0100
TZNAME:BST
DTSTART:20270328T010000
END:DAYLIGHT
BEGIN:STANDARD
TZOFFSETFROM:+0100
TZOFFSETTO:+0000
TZNAME:GMT
DTSTART:20271031T010000
END:STANDARD
END:VTIMEZONE
BEGIN:VEVENT
DTSTART;TZID=Europe/London:20260422T102301
DTEND;TZID=Europe/London:20260422T102301
DTSTAMP:20260422T102301
CREATED:20200127T233513Z
LAST-MODIFIED:20200127T233513Z
UID:3823-1776853381-1776853381@ukpen.eu
SUMMARY:Friday Grassroots Events
DESCRIPTION:[siteorigin_widget class=”SiteOrigin_Widget_Hero_Widget”][/siteorigin_widget]
URL:https://ukpen.eu/event/friday-grassroots-events/
CATEGORIES:Local,National
END:VEVENT
BEGIN:VEVENT
DTSTART;TZID=Europe/London:20260422T102301
DTEND;TZID=Europe/London:20260422T102301
DTSTAMP:20260422T102301
CREATED:20191211T120159Z
LAST-MODIFIED:20191211T120159Z
UID:3603-1776853381-1776853381@ukpen.eu
SUMMARY:Current pencilled-in date for Brexit
DESCRIPTION:
URL:https://ukpen.eu/event/current-pencilled-in-date-for-brexit/
CATEGORIES:National
END:VEVENT
BEGIN:VEVENT
DTSTART;TZID=Europe/London:20260422T102301
DTEND;TZID=Europe/London:20260422T102301
DTSTAMP:20260422T102301
CREATED:20200123T095844Z
LAST-MODIFIED:20200123T095844Z
UID:3784-1776853381-1776853381@ukpen.eu
SUMMARY:À bientôt EU\, see you soon
DESCRIPTION:FRIDAY 31st JANUARY 2020. \nOn Friday 31st January\, Come and join me to say goodbye to our old friend. Be happy for the times shared\, sad for the times we’ll part\, and express yourself and your love for the friendship we’ve had and hope to have again one day soon. \nWith the permission and co-operation of The London Metropolitan Police I invite you all to join me in a procession from Downing Street to The European Commission in St. John Smith Square. \n\nWe will be congregating at Richmond Terrace opposite Downing Street from 2.30pm. We will promptly set off at 3pm in an orderly procession along the pavement making our way to St. John Smith Square following the route a ministerial car would take and as in the diagram below. \nIf there are any instrumentalists perhaps you could bring your instrument to accompany us singing “Ode to Joy” once there and some other songs. (Yet to be announced). \nThis is not a march but an orderly and peaceful procession to bid a very fond farewell for now\, to our dear and much appreciated friends from all of us who will fight to rejoin our family of nations in the EU as soon as possible. \nThere will be a Facebook page launched soon for the event entitled\, Ã€ BientÃ´t EU\, see you soon \nI look forward to seeing you all on the day. I can think of no better way to mark this day than to honour and thank all the staff at The European Commission\, for this will also be their last day in office. \nIt is not the end\, it is but a pause in time for we know that one day we will be together again. \nAs Winston Churchill wanted\, We think as much of being European as of belonging to our native land and this is how it shall stay from this day forth. \nPeter French.\n17 January 2020.
URL:https://ukpen.eu/event/a-bientot-eu-see-you-soon/
CATEGORIES:National
END:VEVENT
BEGIN:VEVENT
DTSTART;TZID=Europe/London:20260422T102301
DTEND;TZID=Europe/London:20260422T102301
DTSTAMP:20260422T102301
CREATED:20191211T121221Z
LAST-MODIFIED:20191211T121221Z
UID:3605-1776853381-1776853381@ukpen.eu
SUMMARY:A night of demonstration for Liberty and Europe - Mark Gitsham
DESCRIPTION:Often-postponed\, this event on Facebook says:\n“On the last night of Britain’s membership of the EU let’s all stand together in solidarity with our European neighbours\, in solidarity\, fighting for understanding and freedom.\nMeet in Parliament Square\, bring flags\, horns and music.”
URL:https://ukpen.eu/event/a-night-of-demonstration-for-liberty-and-europe-mark-gitsham/
CATEGORIES:National
END:VEVENT
BEGIN:VEVENT
DTSTART;TZID=Europe/London:20260422T102301
DTEND;TZID=Europe/London:20260422T102301
DTSTAMP:20260422T102301
CREATED:20191219T161617Z
LAST-MODIFIED:20191219T161617Z
UID:3640-1776853381-1776853381@ukpen.eu
SUMMARY:Refuse to leave the EU\, they can't make us all go
DESCRIPTION:
URL:https://ukpen.eu/event/refuse-to-leave-the-eu-they-cant-make-us-all-go/
CATEGORIES:National
END:VEVENT
END:VCALENDAR