BEGIN:VCALENDAR
VERSION:2.0
PRODID:-//UKPEN.EU - ECPv6.15.20//NONSGML v1.0//EN
CALSCALE:GREGORIAN
METHOD:PUBLISH
X-WR-CALNAME:UKPEN.EU
X-ORIGINAL-URL:https://ukpen.eu
X-WR-CALDESC:Events for UKPEN.EU
REFRESH-INTERVAL;VALUE=DURATION:PT1H
X-Robots-Tag:noindex
X-PUBLISHED-TTL:PT1H
BEGIN:VTIMEZONE
TZID:Europe/London
BEGIN:DAYLIGHT
TZOFFSETFROM:+0000
TZOFFSETTO:+0100
TZNAME:BST
DTSTART:20250330T010000
END:DAYLIGHT
BEGIN:STANDARD
TZOFFSETFROM:+0100
TZOFFSETTO:+0000
TZNAME:GMT
DTSTART:20251026T010000
END:STANDARD
BEGIN:DAYLIGHT
TZOFFSETFROM:+0000
TZOFFSETTO:+0100
TZNAME:BST
DTSTART:20260329T010000
END:DAYLIGHT
BEGIN:STANDARD
TZOFFSETFROM:+0100
TZOFFSETTO:+0000
TZNAME:GMT
DTSTART:20261025T010000
END:STANDARD
BEGIN:DAYLIGHT
TZOFFSETFROM:+0000
TZOFFSETTO:+0100
TZNAME:BST
DTSTART:20270328T010000
END:DAYLIGHT
BEGIN:STANDARD
TZOFFSETFROM:+0100
TZOFFSETTO:+0000
TZNAME:GMT
DTSTART:20271031T010000
END:STANDARD
END:VTIMEZONE
BEGIN:VEVENT
DTSTART;TZID=Europe/London:20260422T114414
DTEND;TZID=Europe/London:20260422T114414
DTSTAMP:20260422T114414
CREATED:20191218T093403Z
LAST-MODIFIED:20191218T093403Z
UID:3622-1776858254-1776858254@ukpen.eu
SUMMARY:Grassroots Conference: Where Next for Remain?
DESCRIPTION:Post Event Reports\n\nLinked Access Only \n[restrict level=”ukpen-linked”] \nFull Reports: \nLucy-Ann_Pope_Report \nGrassroots Communications:\nCommunique.Grassroots.ForEurope.300120.FINALFINAL \nBreakout Notes\n\nGfE Conference notes 25 1 2020\, Session A\nGfE Conference notes 25 1 2020\, Session B\nGfE Conference notes 25 1 2020\, Session D\nGfE Conference notes 25 1 2020\, Session E (1) GfE Conference notes 25 1 2020\, Session E\nGfE Conference notes 25 1 2020\, Session F-1  GfE Conference notes 25 1 2020\, Session f-2\n\n[/restrict] \n\n\n\n\n\nDetails\n\nDownload latest programme: (24 Jan version below). \nWhere Now For Remain – Programme Inside (Landscape) \nUKPEN letter with announcement. \n(“UKPEN letter” is a link to the letter.) \nLink to register: https://buytickets.at/leedsforeurope/333532/r/ukpen \nLatest news: https://www.facebook.com/events/611748446298155/ \nProgramme updated on 1 Jan 2020: \n\n\n\nWhere Now for Remain? \nThe Grassroots for Europe Conference 25 January 2020 \nOutline Programme \n11.00 Welcome and Opening Remarks \n11.10 Keynote Speech \n11.30 What Were They Thinking? – public attitudes to Brexit and Boris Johnson \n_____________________________________________________________________ \n12.00 [Session A] Learning Lessons –\nthe grassroots view of the post-referendum campaign \n12.00 [Session B] The Post-truth Age – can we bring trust & honesty back to politics? \n12.00 [Session C] A Hostile Environment –\ndefending EU citizens in the UK & UK citizens in the EU \n12.45 Feedback from Breakout Sessions \n13.00 Lunch Break \n\n\n\n\n1 \n\n\n\n\n\n\n14.00 [Session A] Brexit Isn’t “Getting Done”! – exposing Brexit’s failings \n\n\n\n\n14.00 [Session B] Let’s Stay Friends – building new links & partnerships with Europe \n14.00 [Session C] Electoral Reform – can we fix Britain without it? \n_____________________________________________________________________ \n15.00 [Session A] Getting Ourselves Organised – who is going to lead the fightback? \n15.00 [Session B] A Pro-European UK Parliament – can we get one by 2024? \n15.00 [Session C] Radical Protest – learning from Extinction Rebellion’s methods \n16.00 Coffee Break \n_____________________________________________________________________ \n16.15 Feedback from Workshops 16.45 Closing Keynote Speech 17.00 Conference Close \n\n\n\n\n2 \n\n\n\n  \nLetter dated 26 December 2019 at 18:23 \n\n\n\n\n\n\n\n\n\n\n\n\n\n\n\n\n\n\n\n\n\n\n\n\n\n\n\n\n\n\n\n\n\n\n\n\n\n\n\n\n\n\n\n\n\n\nDRAFT PROGRAMME FOR THE\nGRASSROOTS PRO-EU CONFERENCE\nWhere does the Pro-EU Movement go from here?\nLondon\, 25 January 2020\nDear [name] \nI hope you have had a great Christmas so far\, and have been able to think about something other than Brexit!  Unfortunately\, it has not gone away\, so\, as we approach our dreaded departure from the European Union in January\, we really do need to talk about where we go from here. \nThanks to the generous support of our conference sponsors\, Best for Britain\, and of local groups and individuals like you up and down to the country\, we are now able to confirm that the conference will definitely go ahead at Central Hall\, Westminster\, London\, on Saturday\, 25 January 2020. \nThe conference Crowdfunder is already almost halfway to our target of £5\,000.  We would like to hit the target before the start of January\, at which point we will be able to launch ticket sales.  The more we can raise from donations\, the lower the ticket price will be.  We will also be able to offer discounted ticket prices to those who have the farthest to travel to get to London.  In other words\, we are asking those that can afford it to support those who can’t\, by contributing generously to the Crowdfunder now. \n“From each according to his ability\, to each according to his needs” \nPlease click below to donate now. \n\n\n\n\n\n\n\n\n\n\n\n\n\n\n\nDONATE TO THE CONFERENCE CROWDFUNDER\n\n\n\n\n\n\n\n\n\n\n\n\n\n\n\n\n\n\n\n\n\n\n\n\n\n\n\n\n\n\nThe Draft Conference Programme\nWe are delighted to make available to you the draft programme for the conference.  This is far from set in stone\, and we welcome suggestions to improve it\, but hopefully it gives you an idea of the ground that we are hoping to cover. \n11.00  Welcome and Opening Remarks \n11.10  Keynote Speech \n11.30  What Were They Thinking? – public attitudes to Brexit and Boris Johnson \n12.00  [Session A] Learning Lessons – the grassroots view of the post-referendum campaign \n12.00  [Session B] The Post-truth Age – can we bring trust & honesty back to politics? \n12.00  [Session C] A Hostile Environment – defending EU citizens in the UK & UK citizens in the EU \n12.45  Feedback from Breakout Sessions \n13.00  Lunch Break \n14.00  [Session A] Brexit Isn’t “Getting Done”! – exposing Brexit’s failings \n14.00  [Session B] Let’s Stay Friends – building new links & partnerships with Europe \n14.00  [Session C] Electoral Reform – can we fix Britain without it? \n15.00  [Session A] Getting Ourselves Organised – who is going to lead the fightback? \n15.00  [Session B] A Pro-European UK Parliament – can we get one by 2024? \n15.00  [Session C] Radical Protest – learning from Extinction Rebellion’s methods \n16.00  Coffee Break \n16.15  Feedback from Workshops \n16.45  Closing Keynote Speech \n17.00  Conference Close \nIf you have any comments about the draft programme\, please do not hesitate to get in touch. \nYou can download a pdf version of the draft programme\, for onward circulation\, below. \n\n\n\n\n\n\n\n\n\n\n\n\n\n\n\nDownload Draft Programme\n\n\n\n\n\n\n\n\n\n\n\n\n\n\n\n\n\n\n\n\n\n\n\n\n\n\n\n\n\n\n\n\n\nJOIN THE DEBATE! \nWhy not join the debate about the Grassroots for Europe conference on our dedicated Facebook page.  There is no better place to contribute your suggestions for topics\, speakers and outcomes. \nGo to https://www.facebook.com/events/611748446298155/ \n\n\n\n\n\n\n\n\n\n\n\n\n\n\n\n\n\n\n\nGrassroots for Europe are grateful to Best for Britain for their generous sponsorship of the Pro-EU Conference 2020. We look forward to collaborating with them as the conference evolves. Please see https://www.bestforbritain.org/ for the latest news on the excellent work being carried out by Best for Britain.\n\n\n\n\n\n\n\n\n\n\n\n\n\n\n\n\n\n\n\n\n\n\n\n\n\n\n\n\n\n\n\n\n\n\n\n\n\n\n\n\n\n\n\n\nThanks for your support.  Please do not hesitate to contact me if you have any thoughts or questions about the conference\, or about anything else to do with our ongoing struggle to resist and\, ultimately\, reverse Brexit. \nBest Wishes \nRichard Wilson\nChair\nGrassroots for Europe\nrichard@grassrootsforeurope.org\nTel: 07807 183244 \n\n\n\n\n\n\n\n\n\n\n\n\n\n\n\n\n\n\n\n\n\n\n\n\n\n\n\n\n\n\n\n\n\n\n\n\n\n\n\n\n\n\n\n\n\n\n\n\n\n\n\n\n\n\n\n\n\n\n\n\n\n\n\n\n\n\n\n\n\n\n\n\n\n\n\n\n\n\n\n\n\n\n\n\n\n\n\n\n\n\n\n\n\n\n\n\n\nCopyright © 2019 Grassroots for Europe\, All rights reserved.\nYou have been sent this email because you have previously asked to be kept informed about the activities of the Grassroots for Europe network. If you no longer wish to be on our mailing list please Unsubscribe using the link below. \nOur mailing address is: \n\nGrassroots for Europe \n\nMill House\nMain Street\, Weeton\nLeeds\, North Yorkshire LS17 0AY \nUnited Kingdom\n\nAdd us to your address book \n\nWant to change how you receive these emails?\nYou can update your preferences or unsubscribe from this list. \n\n\n\n\n\n\n\n\n\n\n\n\n*** ANNOUNCEMENT ***\nWhere does the Pro-EU Movement go from here?\nA major Grassroots-led conference\nLondon\, 25 January 2020\nCrowdfunder (please ask your groups to contribute):\nhttps://chuffed.org/project/grassroots-for-europe-conference\nIt goes without saying that we are all devastated by the result of the General Election on 12 December.  Clearly\, we all need time to absorb the implications and to discuss the situation with our fellow Remainers\, before picking ourselves up and working out how to move forward. \nHowever\, we cannot afford to let the disillusionment of our supporters turn to disengagement.  We have built an extraordinary movement over the last 3 years – the strongest pro-European movement in Europe.  We must preserve what we have built and move quickly\, but with care\, to providing a new sense of purpose for our campaigners. \nWith this in mind\, Grassroots for Europe are proposing that we hold a national conference\, in London\, on Saturday\, 25 January 2020 – to which all pro-European campaigners will be invited – to take stock and start to formulate a strategy for our movement going forward. \nPlease mark the date in your diary now.  We are currently sourcing a venue and will announce details in the New Year. \nWe will be making contact with all of the other pro-EU campaign organisations\, including the European Movement\, Best for Britain\, the People’s Vote constituent organisations\, as well as non-aligned campaign groups to bring all stakeholders together. \nIf you know of anyone at all – whether campaigners\, politicians\, journalists or anyone with something to contribute to creating our new strategy – who we should involve in this conference\, then please forward this email to them\, ask them to make themselves available\, and put them in touch with me so I can formally invite them. \nIf you can help in any other way with organising this conference\, please could you get in touch.  We need to choose and book a suitable venue\, promote the event\, arrange speakers and an Agenda and generally start the debates that we need to have both before\, during and after the conference.  Please click the link below to offer your assistance\, letting me know how you can help.
URL:https://ukpen.eu/event/grassroots-pro-eu-conference/
CATEGORIES:National
END:VEVENT
END:VCALENDAR