BEGIN:VCALENDAR
VERSION:2.0
PRODID:-//UKPEN.EU - ECPv6.15.20//NONSGML v1.0//EN
CALSCALE:GREGORIAN
METHOD:PUBLISH
X-WR-CALNAME:UKPEN.EU
X-ORIGINAL-URL:https://ukpen.eu
X-WR-CALDESC:Events for UKPEN.EU
REFRESH-INTERVAL;VALUE=DURATION:PT1H
X-Robots-Tag:noindex
X-PUBLISHED-TTL:PT1H
BEGIN:VTIMEZONE
TZID:Europe/London
BEGIN:DAYLIGHT
TZOFFSETFROM:+0000
TZOFFSETTO:+0100
TZNAME:BST
DTSTART:20250330T010000
END:DAYLIGHT
BEGIN:STANDARD
TZOFFSETFROM:+0100
TZOFFSETTO:+0000
TZNAME:GMT
DTSTART:20251026T010000
END:STANDARD
BEGIN:DAYLIGHT
TZOFFSETFROM:+0000
TZOFFSETTO:+0100
TZNAME:BST
DTSTART:20260329T010000
END:DAYLIGHT
BEGIN:STANDARD
TZOFFSETFROM:+0100
TZOFFSETTO:+0000
TZNAME:GMT
DTSTART:20261025T010000
END:STANDARD
BEGIN:DAYLIGHT
TZOFFSETFROM:+0000
TZOFFSETTO:+0100
TZNAME:BST
DTSTART:20270328T010000
END:DAYLIGHT
BEGIN:STANDARD
TZOFFSETFROM:+0100
TZOFFSETTO:+0000
TZNAME:GMT
DTSTART:20271031T010000
END:STANDARD
END:VTIMEZONE
BEGIN:VEVENT
DTSTART;TZID=Europe/London:20260422T235602
DTEND;TZID=Europe/London:20260422T235602
DTSTAMP:20260422T235602
CREATED:20191206T112900Z
LAST-MODIFIED:20191206T112900Z
UID:3519-1776902162-1776902162@ukpen.eu
SUMMARY:Westminster rally: Stop The Brexit Landslide
DESCRIPTION:We have just a few days left to stop Boris Johnson winning a landslide in this election and forcing his destructive Brexit on the people. \nAs we enter the last week of this election\, the people who organised the massive People’s Vote marches in London are putting on one more massive – and noisy – rally. We’ll be joined by some of the biggest names in politics\, including Michael Heseltine\, and some very famous surprise guests. The event will be held in the spectacular Methodist Central Hall over the road from Parliament\, but our rallying cry will be heard beyond Westminster\, in every constituency across the country. \nDoors will open at 4pm for a 5pm start. Bring your placards and get ready to make a difference.
URL:https://ukpen.eu/event/westminster-rally-stop-the-brexit-landslide/
CATEGORIES:National
END:VEVENT
END:VCALENDAR