BEGIN:VCALENDAR
VERSION:2.0
PRODID:-//UKPEN.EU - ECPv6.15.20//NONSGML v1.0//EN
CALSCALE:GREGORIAN
METHOD:PUBLISH
X-ORIGINAL-URL:https://ukpen.eu
X-WR-CALDESC:Events for UKPEN.EU
REFRESH-INTERVAL;VALUE=DURATION:PT1H
X-Robots-Tag:noindex
X-PUBLISHED-TTL:PT1H
BEGIN:VTIMEZONE
TZID:Europe/London
BEGIN:DAYLIGHT
TZOFFSETFROM:+0000
TZOFFSETTO:+0100
TZNAME:BST
DTSTART:20250330T010000
END:DAYLIGHT
BEGIN:STANDARD
TZOFFSETFROM:+0100
TZOFFSETTO:+0000
TZNAME:GMT
DTSTART:20251026T010000
END:STANDARD
BEGIN:DAYLIGHT
TZOFFSETFROM:+0000
TZOFFSETTO:+0100
TZNAME:BST
DTSTART:20260329T010000
END:DAYLIGHT
BEGIN:STANDARD
TZOFFSETFROM:+0100
TZOFFSETTO:+0000
TZNAME:GMT
DTSTART:20261025T010000
END:STANDARD
BEGIN:DAYLIGHT
TZOFFSETFROM:+0000
TZOFFSETTO:+0100
TZNAME:BST
DTSTART:20270328T010000
END:DAYLIGHT
BEGIN:STANDARD
TZOFFSETFROM:+0100
TZOFFSETTO:+0000
TZNAME:GMT
DTSTART:20271031T010000
END:STANDARD
END:VTIMEZONE
BEGIN:VEVENT
DTSTART;TZID=Europe/London:20260422T144321
DTEND;TZID=Europe/London:20260422T144321
DTSTAMP:20260422T144321
CREATED:20191121T232248Z
LAST-MODIFIED:20191121T232248Z
UID:3421-1776869001-1776869001@ukpen.eu
SUMMARY:Launch of Citizens' Rights Manifesto
DESCRIPTION:Like the suffragettes before them\, many EU citizens understand that the way to change the world so that they are no longer treated like second class citizens is to find a voice\, to stand up and to fight for justice. That’s why we have invited suffragette Emily Davison\, to return to London to champion the cause of EU citizens and launch the Citizens’ Rights Manifesto. \nJoin us for the launch of the Citizens’ Rights Manifesto \nThe event will feature speeches by:\nKate Willoughby (Emily Davison)\nElse Kvist (Anglo-Danish journalist\nJoan Pons Laplana (Roaring Nurse).\nRoger Casale\, founder & CEO of New Europeans (Moderator)
URL:https://ukpen.eu/event/launch-of-citizens-rights-manifesto/
CATEGORIES:National
END:VEVENT
END:VCALENDAR