BEGIN:VCALENDAR
VERSION:2.0
PRODID:-//UKPEN.EU - ECPv6.15.20//NONSGML v1.0//EN
CALSCALE:GREGORIAN
METHOD:PUBLISH
X-ORIGINAL-URL:https://ukpen.eu
X-WR-CALDESC:Events for UKPEN.EU
REFRESH-INTERVAL;VALUE=DURATION:PT1H
X-Robots-Tag:noindex
X-PUBLISHED-TTL:PT1H
BEGIN:VTIMEZONE
TZID:Europe/London
BEGIN:DAYLIGHT
TZOFFSETFROM:+0000
TZOFFSETTO:+0100
TZNAME:BST
DTSTART:20250330T010000
END:DAYLIGHT
BEGIN:STANDARD
TZOFFSETFROM:+0100
TZOFFSETTO:+0000
TZNAME:GMT
DTSTART:20251026T010000
END:STANDARD
BEGIN:DAYLIGHT
TZOFFSETFROM:+0000
TZOFFSETTO:+0100
TZNAME:BST
DTSTART:20260329T010000
END:DAYLIGHT
BEGIN:STANDARD
TZOFFSETFROM:+0100
TZOFFSETTO:+0000
TZNAME:GMT
DTSTART:20261025T010000
END:STANDARD
BEGIN:DAYLIGHT
TZOFFSETFROM:+0000
TZOFFSETTO:+0100
TZNAME:BST
DTSTART:20270328T010000
END:DAYLIGHT
BEGIN:STANDARD
TZOFFSETFROM:+0100
TZOFFSETTO:+0000
TZNAME:GMT
DTSTART:20271031T010000
END:STANDARD
END:VTIMEZONE
BEGIN:VEVENT
DTSTART;TZID=Europe/London:20260422T223959
DTEND;TZID=Europe/London:20260422T223959
DTSTAMP:20260422T223959
CREATED:20191026T220859Z
LAST-MODIFIED:20191026T220859Z
UID:2914-1776897599-1776897599@ukpen.eu
SUMMARY:Volt Party Conference
DESCRIPTION:Volt UK’s members and everyone else who is interested will meet for our second Party Conference this year on 10 November 2019.\nOur focus will be on the strategy and your expectations for the local elections in May 2020 and on creating new policy papers through which we can start Volt powered change in our local communities.\nMorning – Volt UK Strategy\nAfter Lunch – Volt UK Policies\nAfternoon – Public Action\nAfter 6pm – Dinner and Drinks\nYou can join whether you are a member or not and are encouraged to contribute to our discussions throughout the day. The more perspectives we hear the better informed decision we can make.\nThe ticket for the day includes lunch and a light dinner as well as drinks throughout the day. Our treasurer Derhen will be in touch concerning the payment once your ticket has been secured through Eventbrite.
URL:https://ukpen.eu/event/volt-party-conference/
CATEGORIES:National
END:VEVENT
END:VCALENDAR