BEGIN:VCALENDAR
VERSION:2.0
PRODID:-//UKPEN.EU - ECPv6.15.20//NONSGML v1.0//EN
CALSCALE:GREGORIAN
METHOD:PUBLISH
X-WR-CALNAME:UKPEN.EU
X-ORIGINAL-URL:https://ukpen.eu
X-WR-CALDESC:Events for UKPEN.EU
REFRESH-INTERVAL;VALUE=DURATION:PT1H
X-Robots-Tag:noindex
X-PUBLISHED-TTL:PT1H
BEGIN:VTIMEZONE
TZID:Europe/London
BEGIN:DAYLIGHT
TZOFFSETFROM:+0000
TZOFFSETTO:+0100
TZNAME:BST
DTSTART:20250330T010000
END:DAYLIGHT
BEGIN:STANDARD
TZOFFSETFROM:+0100
TZOFFSETTO:+0000
TZNAME:GMT
DTSTART:20251026T010000
END:STANDARD
BEGIN:DAYLIGHT
TZOFFSETFROM:+0000
TZOFFSETTO:+0100
TZNAME:BST
DTSTART:20260329T010000
END:DAYLIGHT
BEGIN:STANDARD
TZOFFSETFROM:+0100
TZOFFSETTO:+0000
TZNAME:GMT
DTSTART:20261025T010000
END:STANDARD
BEGIN:DAYLIGHT
TZOFFSETFROM:+0000
TZOFFSETTO:+0100
TZNAME:BST
DTSTART:20270328T010000
END:DAYLIGHT
BEGIN:STANDARD
TZOFFSETFROM:+0100
TZOFFSETTO:+0000
TZNAME:GMT
DTSTART:20271031T010000
END:STANDARD
END:VTIMEZONE
BEGIN:VEVENT
DTSTART;TZID=Europe/London:20260422T223230
DTEND;TZID=Europe/London:20260422T223230
DTSTAMP:20260422T223230
CREATED:20190820T124422Z
LAST-MODIFIED:20190820T124422Z
UID:2084-1776897150-1776897150@ukpen.eu
SUMMARY:Let Us Be Heard March
DESCRIPTION:The march from Park Lane to Parliament will deliver a message loud and clear to the Government and MPs that they should trust the people\, not Boris Johnson\, to solve the Brexit crisis. \nOctober 19 will give the people of the UK the chance to make their voice heard just 24 hours after the end of the European Council meeting in Brussels – ahead of a tumultuous few days that will have a huge and historic impact on our country’s future.  \nThis Brexit crisis has now come down to a simple question about whether we live in a democracy: can we allow Boris Johnson to force No Deal – or another vicious form of Brexit – on our country\, without all of us having our voice heard?  \nThis protest will give voice to all of us who feel they are being ignored by politicians hell-bent on imposing the hardest possible form of Brexit on our country without us all being given final say. We know it can make a difference because our previous marches already have.  \nThe only way to break the deadlock in Parliament\, legitimise the outcome and allow us all to talk about something else\, is to give the people the final say.  \nSave the date. And let’s save the country.
URL:https://ukpen.eu/event/let-us-be-heard-march/
CATEGORIES:National
END:VEVENT
END:VCALENDAR