BEGIN:VCALENDAR
VERSION:2.0
PRODID:-//UKPEN.EU - ECPv6.15.20//NONSGML v1.0//EN
CALSCALE:GREGORIAN
METHOD:PUBLISH
X-WR-CALNAME:UKPEN.EU
X-ORIGINAL-URL:https://ukpen.eu
X-WR-CALDESC:Events for UKPEN.EU
REFRESH-INTERVAL;VALUE=DURATION:PT1H
X-Robots-Tag:noindex
X-PUBLISHED-TTL:PT1H
BEGIN:VTIMEZONE
TZID:Europe/London
BEGIN:DAYLIGHT
TZOFFSETFROM:+0000
TZOFFSETTO:+0100
TZNAME:BST
DTSTART:20250330T010000
END:DAYLIGHT
BEGIN:STANDARD
TZOFFSETFROM:+0100
TZOFFSETTO:+0000
TZNAME:GMT
DTSTART:20251026T010000
END:STANDARD
BEGIN:DAYLIGHT
TZOFFSETFROM:+0000
TZOFFSETTO:+0100
TZNAME:BST
DTSTART:20260329T010000
END:DAYLIGHT
BEGIN:STANDARD
TZOFFSETFROM:+0100
TZOFFSETTO:+0000
TZNAME:GMT
DTSTART:20261025T010000
END:STANDARD
BEGIN:DAYLIGHT
TZOFFSETFROM:+0000
TZOFFSETTO:+0100
TZNAME:BST
DTSTART:20270328T010000
END:DAYLIGHT
BEGIN:STANDARD
TZOFFSETFROM:+0100
TZOFFSETTO:+0000
TZNAME:GMT
DTSTART:20271031T010000
END:STANDARD
END:VTIMEZONE
BEGIN:VEVENT
DTSTART;TZID=Europe/London:20260422T193011
DTEND;TZID=Europe/London:20260422T193011
DTSTAMP:20260422T193011
CREATED:20190821T092547Z
LAST-MODIFIED:20190821T092547Z
UID:2168-1776886211-1776886211@ukpen.eu
SUMMARY:Rally 4 Our Rights
DESCRIPTION:Following the change in date of the People’s Vote march\, social media became awash with messages from people who had already paid for their travel to London on the 12th October. \nIn order to make sure that those people had not made the financial commitment in vain\, we decided to make the most out of the situation and organise a rally for those who are unable to change their travel plans. Rally 4 Our Rights was born. \nSo join us on the 12th in central London (location TBC) for a rally to demand the rights of people – All people – are defended. \nThis event is being organised by Final Say For All @FinalSayForAll \nAs a foundation\, our focus is on the human impact of Brexit\, how #BrexitIsPersonal. We campaign to stop Brexit because that’s the best way to protect the rights of #The5Million. The Foundation is committed to ensuring voting rights for all UK citizens currently living in the European Union\, and for all EU citizens living in the UK\, who are directly affected by any change in relationship between the UK and the EU. Ideally Article 50 will be revoked\, but should there be another referendum\, we demand that it’s a @FinalSayForAll \nhttp://finalsayforall.eu \nhttps://facebook.com/finalsayforall/
URL:https://ukpen.eu/event/rally-4-our-rights/
CATEGORIES:National
END:VEVENT
END:VCALENDAR