BEGIN:VCALENDAR
VERSION:2.0
PRODID:-//UKPEN.EU - ECPv6.15.20//NONSGML v1.0//EN
CALSCALE:GREGORIAN
METHOD:PUBLISH
X-ORIGINAL-URL:https://ukpen.eu
X-WR-CALDESC:Events for UKPEN.EU
REFRESH-INTERVAL;VALUE=DURATION:PT1H
X-Robots-Tag:noindex
X-PUBLISHED-TTL:PT1H
BEGIN:VTIMEZONE
TZID:Europe/London
BEGIN:DAYLIGHT
TZOFFSETFROM:+0000
TZOFFSETTO:+0100
TZNAME:BST
DTSTART:20250330T010000
END:DAYLIGHT
BEGIN:STANDARD
TZOFFSETFROM:+0100
TZOFFSETTO:+0000
TZNAME:GMT
DTSTART:20251026T010000
END:STANDARD
BEGIN:DAYLIGHT
TZOFFSETFROM:+0000
TZOFFSETTO:+0100
TZNAME:BST
DTSTART:20260329T010000
END:DAYLIGHT
BEGIN:STANDARD
TZOFFSETFROM:+0100
TZOFFSETTO:+0000
TZNAME:GMT
DTSTART:20261025T010000
END:STANDARD
BEGIN:DAYLIGHT
TZOFFSETFROM:+0000
TZOFFSETTO:+0100
TZNAME:BST
DTSTART:20270328T010000
END:DAYLIGHT
BEGIN:STANDARD
TZOFFSETFROM:+0100
TZOFFSETTO:+0000
TZNAME:GMT
DTSTART:20271031T010000
END:STANDARD
END:VTIMEZONE
BEGIN:VEVENT
DTSTART;TZID=Europe/London:20260422T235758
DTEND;TZID=Europe/London:20260422T235758
DTSTAMP:20260422T235758
CREATED:20190925T132813Z
LAST-MODIFIED:20190925T132813Z
UID:2650-1776902278-1776902278@ukpen.eu
SUMMARY:Never Ending Brexit? Macshane and Blick
DESCRIPTION:NEVER-ENDING BREXIT?\n\n\n Joint event with Federal Union \nTuesday\, 8th October 2019 \n17.30 – 19.30\, followed by a drinks reception \nVenue: Coventry University London (Postgraduate Centre and Financial Suite)\, Cutlers Exchange\, Cutler Street Entrance\, London E1 7DJ (near Travelodge) \nRSVP to events@fedtrust.co.uk or by phone on024 7765 1102 \n  \nDr Denis MacShane\, former MP and Europe Minister under Tony Blair\, will discuss the latest developments in the Brexit debate\, such as the implications of the prorogation of Parliament and a possible General Election. He argues that the European question will remain the defining political issue of our time\, with the prospect of a decade or more of bad-tempered negotiations\, internal political rows\, and uncertainty for business and citizens. \nDr. Andrew Blick\, Senior Lecturer in Politics and Contemporary History at King’s College London\, will speak about the constitutional implications of recent debate concerning the prorogation of Parliament and the relative rights of government and Parliament in international negotiations. He will argue that the uncertainty and controversy surrounding this debate reinforce the case for a written\, probably federal constitution for the UK. \nRespondent: Brendan Donnelly\, Director\, The Federal Trust
URL:https://ukpen.eu/event/never-ending-brexit-macshane-and-blick/
CATEGORIES:National
END:VEVENT
END:VCALENDAR