BEGIN:VCALENDAR
VERSION:2.0
PRODID:-//UKPEN.EU - ECPv6.15.20//NONSGML v1.0//EN
CALSCALE:GREGORIAN
METHOD:PUBLISH
X-WR-CALNAME:UKPEN.EU
X-ORIGINAL-URL:https://ukpen.eu
X-WR-CALDESC:Events for UKPEN.EU
REFRESH-INTERVAL;VALUE=DURATION:PT1H
X-Robots-Tag:noindex
X-PUBLISHED-TTL:PT1H
BEGIN:VTIMEZONE
TZID:Europe/London
BEGIN:DAYLIGHT
TZOFFSETFROM:+0000
TZOFFSETTO:+0100
TZNAME:BST
DTSTART:20250330T010000
END:DAYLIGHT
BEGIN:STANDARD
TZOFFSETFROM:+0100
TZOFFSETTO:+0000
TZNAME:GMT
DTSTART:20251026T010000
END:STANDARD
BEGIN:DAYLIGHT
TZOFFSETFROM:+0000
TZOFFSETTO:+0100
TZNAME:BST
DTSTART:20260329T010000
END:DAYLIGHT
BEGIN:STANDARD
TZOFFSETFROM:+0100
TZOFFSETTO:+0000
TZNAME:GMT
DTSTART:20261025T010000
END:STANDARD
BEGIN:DAYLIGHT
TZOFFSETFROM:+0000
TZOFFSETTO:+0100
TZNAME:BST
DTSTART:20270328T010000
END:DAYLIGHT
BEGIN:STANDARD
TZOFFSETFROM:+0100
TZOFFSETTO:+0000
TZNAME:GMT
DTSTART:20271031T010000
END:STANDARD
END:VTIMEZONE
BEGIN:VEVENT
DTSTART;TZID=Europe/London:20260423T001616
DTEND;TZID=Europe/London:20260423T001616
DTSTAMP:20260423T001616
CREATED:20190821T155332Z
LAST-MODIFIED:20190821T155332Z
UID:2196-1776903376-1776903376@ukpen.eu
SUMMARY:Conservative Party Conference
DESCRIPTION:
URL:https://ukpen.eu/event/conservative-party-conference/
CATEGORIES:National
END:VEVENT
BEGIN:VEVENT
DTSTART;TZID=Europe/London:20260423T001616
DTEND;TZID=Europe/London:20260423T001616
DTSTAMP:20260423T001616
CREATED:20190821T160735Z
LAST-MODIFIED:20190821T160735Z
UID:2200-1776903376-1776903376@ukpen.eu
SUMMARY:March and Rally (formerly Cirque de Resistance)
DESCRIPTION:Fill in this form at https://cirquederesist.com/ \n 
URL:https://ukpen.eu/event/cirque-de-resistance/
CATEGORIES:National
END:VEVENT
BEGIN:VEVENT
DTSTART;TZID=Europe/London:20260423T001616
DTEND;TZID=Europe/London:20260423T001616
DTSTAMP:20260423T001616
CREATED:20190918T194510Z
LAST-MODIFIED:20190918T194510Z
UID:2623-1776903376-1776903376@ukpen.eu
SUMMARY:March on Conservative Party Conference
DESCRIPTION:The Conservative Party conference begins on Sunday 29th September in Manchester. We will be there to greet them. \nThe assembly point for the march is Whitworth Park\, Oxford Road. From there\, we will march to our rally point at the Castlefield Bowl. \nRegister here: https://www.marchforchange.uk/tory_conference
URL:https://ukpen.eu/event/march-on-conservative-party-conference/
CATEGORIES:National
END:VEVENT
END:VCALENDAR