BEGIN:VCALENDAR
VERSION:2.0
PRODID:-//UKPEN.EU - ECPv6.15.20//NONSGML v1.0//EN
CALSCALE:GREGORIAN
METHOD:PUBLISH
X-ORIGINAL-URL:https://ukpen.eu
X-WR-CALDESC:Events for UKPEN.EU
REFRESH-INTERVAL;VALUE=DURATION:PT1H
X-Robots-Tag:noindex
X-PUBLISHED-TTL:PT1H
BEGIN:VTIMEZONE
TZID:Europe/London
BEGIN:DAYLIGHT
TZOFFSETFROM:+0000
TZOFFSETTO:+0100
TZNAME:BST
DTSTART:20250330T010000
END:DAYLIGHT
BEGIN:STANDARD
TZOFFSETFROM:+0100
TZOFFSETTO:+0000
TZNAME:GMT
DTSTART:20251026T010000
END:STANDARD
BEGIN:DAYLIGHT
TZOFFSETFROM:+0000
TZOFFSETTO:+0100
TZNAME:BST
DTSTART:20260329T010000
END:DAYLIGHT
BEGIN:STANDARD
TZOFFSETFROM:+0100
TZOFFSETTO:+0000
TZNAME:GMT
DTSTART:20261025T010000
END:STANDARD
BEGIN:DAYLIGHT
TZOFFSETFROM:+0000
TZOFFSETTO:+0100
TZNAME:BST
DTSTART:20270328T010000
END:DAYLIGHT
BEGIN:STANDARD
TZOFFSETFROM:+0100
TZOFFSETTO:+0000
TZNAME:GMT
DTSTART:20271031T010000
END:STANDARD
END:VTIMEZONE
BEGIN:VEVENT
DTSTART;TZID=Europe/London:20260422T195406
DTEND;TZID=Europe/London:20260422T195406
DTSTAMP:20260422T195406
CREATED:20190828T105209Z
LAST-MODIFIED:20190828T105209Z
UID:2356-1776887646-1776887646@ukpen.eu
SUMMARY:People's Vote Action Day
DESCRIPTION:With the Brexit deadline fast approaching\, and the Government now leaning heavily towards a disastrous no-deal\, this September will be a vital month in the campaign for a People’s Vote and for the future of our country. \nOn Saturday 21st September we will be running a national action day in order to put pressure on key MPs\, to raise awareness of the risks of no-deal\, and to promote the upcoming 19th October march. Action days are a great way of mobilising support across the country\, and focusing attention on important issues. It would be great if your local group is able to take part in this day. \n 
URL:https://ukpen.eu/event/peoples-vote-action-day/
CATEGORIES:National
END:VEVENT
BEGIN:VEVENT
DTSTART;TZID=Europe/London:20260422T195406
DTEND;TZID=Europe/London:20260422T195406
DTSTAMP:20260422T195406
CREATED:20190822T191452Z
LAST-MODIFIED:20190822T191452Z
UID:2269-1776887646-1776887646@ukpen.eu
SUMMARY:Labour Party Conference
DESCRIPTION:In late August we publish the Annual Conference timetable online. This allows you to see what fringe events and plenary sessions are taking place. You can also download the free Conference App\, which allows you to save a diary of speeches and events you wish to attend\, as well as get information about the exhibition.
URL:https://ukpen.eu/event/labour-party-conference/
CATEGORIES:National
END:VEVENT
END:VCALENDAR