BEGIN:VCALENDAR
VERSION:2.0
PRODID:-//UKPEN.EU - ECPv6.15.20//NONSGML v1.0//EN
CALSCALE:GREGORIAN
METHOD:PUBLISH
X-ORIGINAL-URL:https://ukpen.eu
X-WR-CALDESC:Events for UKPEN.EU
REFRESH-INTERVAL;VALUE=DURATION:PT1H
X-Robots-Tag:noindex
X-PUBLISHED-TTL:PT1H
BEGIN:VTIMEZONE
TZID:Europe/London
BEGIN:DAYLIGHT
TZOFFSETFROM:+0000
TZOFFSETTO:+0100
TZNAME:BST
DTSTART:20250330T010000
END:DAYLIGHT
BEGIN:STANDARD
TZOFFSETFROM:+0100
TZOFFSETTO:+0000
TZNAME:GMT
DTSTART:20251026T010000
END:STANDARD
BEGIN:DAYLIGHT
TZOFFSETFROM:+0000
TZOFFSETTO:+0100
TZNAME:BST
DTSTART:20260329T010000
END:DAYLIGHT
BEGIN:STANDARD
TZOFFSETFROM:+0100
TZOFFSETTO:+0000
TZNAME:GMT
DTSTART:20261025T010000
END:STANDARD
BEGIN:DAYLIGHT
TZOFFSETFROM:+0000
TZOFFSETTO:+0100
TZNAME:BST
DTSTART:20270328T010000
END:DAYLIGHT
BEGIN:STANDARD
TZOFFSETFROM:+0100
TZOFFSETTO:+0000
TZNAME:GMT
DTSTART:20271031T010000
END:STANDARD
END:VTIMEZONE
BEGIN:VEVENT
DTSTART;TZID=Europe/London:20260422T230200
DTEND;TZID=Europe/London:20260422T230200
DTSTAMP:20260422T230200
CREATED:20190822T192450Z
LAST-MODIFIED:20190822T192450Z
UID:2272-1776898920-1776898920@ukpen.eu
SUMMARY:Liberal Democrat Conference
DESCRIPTION:
URL:https://ukpen.eu/event/liberal-democrat-conference/
CATEGORIES:National
END:VEVENT
BEGIN:VEVENT
DTSTART;TZID=Europe/London:20260422T230200
DTEND;TZID=Europe/London:20260422T230200
DTSTAMP:20260422T230200
CREATED:20190911T190717Z
LAST-MODIFIED:20190911T190717Z
UID:2518-1776898920-1776898920@ukpen.eu
SUMMARY:Defend our Democracy at the Supreme Court
DESCRIPTION:The Court of Session – the highest court in Scotland – has found that Boris Johnson’s suspension of Parliament is unlawful. On Tuesday 17 September\, the Supreme Court – the highest court in the UK – will hear the case. \nJoin us from 0800am outside the Supreme Court to Defend our Democracy\, uphold the rule of law and oppose the suspension of Parliament. \nThis could prove to be the most important rally yet. If the government win this case\, it will set a precedent in which our Parliament and elected representatives are reduced to subjugates of the executive. We cannot allow this to happen to our Parliamentary democracy
URL:https://ukpen.eu/event/defend-our-democracy-at-the-supreme-court/
CATEGORIES:National
END:VEVENT
BEGIN:VEVENT
DTSTART;TZID=Europe/London:20260422T230200
DTEND;TZID=Europe/London:20260422T230200
DTSTAMP:20260422T230200
CREATED:20190916T215550Z
LAST-MODIFIED:20190916T215550Z
UID:2614-1776898920-1776898920@ukpen.eu
SUMMARY:The Supreme Court - Brexit-related judicial review cases
DESCRIPTION:The Supreme Court will hear Brexit-related judicial review cases from 17 to 19 September 2019 in Courtroom 1. \nWatch live Brexit-related judicial review cases: https://www.supremecourt.uk/live/court-01.html
URL:https://ukpen.eu/event/the-supreme-court-brexit-related-judicial-review-cases/
CATEGORIES:National
END:VEVENT
END:VCALENDAR