BEGIN:VCALENDAR
VERSION:2.0
PRODID:-//UKPEN.EU - ECPv6.15.20//NONSGML v1.0//EN
CALSCALE:GREGORIAN
METHOD:PUBLISH
X-ORIGINAL-URL:https://ukpen.eu
X-WR-CALDESC:Events for UKPEN.EU
REFRESH-INTERVAL;VALUE=DURATION:PT1H
X-Robots-Tag:noindex
X-PUBLISHED-TTL:PT1H
BEGIN:VTIMEZONE
TZID:Europe/London
BEGIN:DAYLIGHT
TZOFFSETFROM:+0000
TZOFFSETTO:+0100
TZNAME:BST
DTSTART:20250330T010000
END:DAYLIGHT
BEGIN:STANDARD
TZOFFSETFROM:+0100
TZOFFSETTO:+0000
TZNAME:GMT
DTSTART:20251026T010000
END:STANDARD
BEGIN:DAYLIGHT
TZOFFSETFROM:+0000
TZOFFSETTO:+0100
TZNAME:BST
DTSTART:20260329T010000
END:DAYLIGHT
BEGIN:STANDARD
TZOFFSETFROM:+0100
TZOFFSETTO:+0000
TZNAME:GMT
DTSTART:20261025T010000
END:STANDARD
BEGIN:DAYLIGHT
TZOFFSETFROM:+0000
TZOFFSETTO:+0100
TZNAME:BST
DTSTART:20270328T010000
END:DAYLIGHT
BEGIN:STANDARD
TZOFFSETFROM:+0100
TZOFFSETTO:+0000
TZNAME:GMT
DTSTART:20271031T010000
END:STANDARD
END:VTIMEZONE
BEGIN:VEVENT
DTSTART;TZID=Europe/London:20260423T001927
DTEND;TZID=Europe/London:20260423T001927
DTSTAMP:20260423T001927
CREATED:20190822T132800Z
LAST-MODIFIED:20190822T132800Z
UID:2219-1776903567-1776903567@ukpen.eu
SUMMARY:Stand by Mary Creagh
DESCRIPTION:To sign up and for further details email: Flying.Force.For.Remain at gmail.com. \n“Let’s make this the start of nationwide electioneering for Remainers and against B(L)exiters. Don’t let No Deal sidetrack us. Our goal remains No Brexit. \nIf anyone wants accommodation on the Saturday night please email Flying Force or martinhousden@gmail.com. \nWakefield CLP say they can find\naccommodation and something to do for up to 50 volunteers.
URL:https://ukpen.eu/event/stand-by-mary-creagh/
CATEGORIES:National
END:VEVENT
BEGIN:VEVENT
DTSTART;TZID=Europe/London:20260423T001927
DTEND;TZID=Europe/London:20260423T001927
DTSTAMP:20260423T001927
CREATED:20190820T212901Z
LAST-MODIFIED:20190820T212901Z
UID:2158-1776903567-1776903567@ukpen.eu
SUMMARY:The Great Northern Stop Brexit Conference #2
DESCRIPTION:Repairing and Reforming Broken Britain\nIn September 2018 Leeds for Europe organised the ground-breaking Great Northern Stop Brexit Conference.  A packed audience were treated to a unique day of high-quality debate as we sought to “Create A Vision of a New Britain without Brexit”. \nOne year on\, with our nation still trapped in the purgatory of a shambolic Brexit process\, we have decided to repeat and update the conference with a brand new programme and a new line-up of superb speakers. \nWe in Leeds for Europe still believe that we need to offer the people of Britain an optimistic vision of how good our future could be\, if we stay inside the European Union. \nThis year’s programme will look at ways to avoid the threats of “big data” and the rise of populism across the western world\, how to close the generation gap\, making Britain’s institutions fit for the 21st century\, tackling the climate crisis and learning how to talk to Leavers.  We will finish on an optimistic note\, asking the question “How good could Britain be without Brexit?”. \nJoin us again for this one-day conference\, as we debate ways to repair and reform broken Britain. \nSpeakers confirmed so far are:- \nWill Hutton\, journalist\, The Observer\nGavin Esler\, former presenter\, Newsnight\nAlex Sobel MP (Leeds North West\, Labour)\nNatalie Bennett\, former Leader of the Green Party\nProfessor AC Grayling\, Philosopher & Author\nRichard Corbett MEP (Yorkshire & The Humber\, Labour)\nShaffaq Mohammed MEP (Yorkshire & The Humber\, LibDem)\nKamran Hussain\, LibDem PPC for Leeds North West constituency\nDiana Wallis\, Change UK\nWill Dry\, Our Future\, Our Choice\nMadeleina Kay\, Campaigner\, Young European of the Year 2018\nDr Mike Galsworthy\, Founder\, Scientists for EU\nPranay Manocha\, Chief Technical Officer\, Best for Britain\nDaniel Paterson\, Best for Britain \nThere’ll be a post-conference social nearby.
URL:https://ukpen.eu/event/the-great-northern-stop-brexit-conference-2-leeds/
CATEGORIES:National
END:VEVENT
BEGIN:VEVENT
DTSTART;TZID=Europe/London:20260423T001927
DTEND;TZID=Europe/London:20260423T001927
DTSTAMP:20260423T001927
CREATED:20190906T163914Z
LAST-MODIFIED:20190906T163914Z
UID:2497-1776903567-1776903567@ukpen.eu
SUMMARY:Defend our Democracy
DESCRIPTION:Join us at 2.00pm on Saturday 7th September in Parliament Square to Defend our Democracy and to demand our MPs Reject Brexit. \nOur unelected Prime Minister has shown he is willing to ride roughshod over our democracy to get his way\, including potentially breaking the law. \nWe will not be protesting alone. On the same day\, many local pro-European groups will be organising demonstrations to Defend our Democracy and to Reject Brexit right across the UK.
URL:https://ukpen.eu/event/defend-our-democracy/
CATEGORIES:National
END:VEVENT
BEGIN:VEVENT
DTSTART;TZID=Europe/London:20260423T001927
DTEND;TZID=Europe/London:20260423T001927
DTSTAMP:20260423T001927
CREATED:20190906T164610Z
LAST-MODIFIED:20190906T164610Z
UID:2500-1776903567-1776903567@ukpen.eu
SUMMARY:Demand Democracy\, Johnson Out!
DESCRIPTION:Thousands will take to the streets demanding Boris Johnson’s resignation.\nBy suspending parliament\, Johnson has shown his contempt for democracy. His Brexit agenda is a threat to jobs\, workers’ rights\, migrants and the NHS. We all have a duty to fight back. \nSo cancel all your plans and come to this. We will be joined by a range of exciting grassroots and big name speakers including Owen Jones\, Siân Berry from the Green Party\, Laura Parker from Momentum and Diane Abbott MP. \nBring family and friends\, placards and noise to Downing Street from 2:30 pm. \nWe are leafleting around London all day today. If you have a couple of hours to spare and can help\, please get in touch or find us on Parliament Square from 5:30 pm. \nIf you can’t make it to London\, other protests on Saturday include: \nBristol: 12 noon\, College Green. Event here.\nLeeds: 3pm\, Leeds Art Gallery. Event here.\nNorwich: 2:30pm\, City Hall. Event here.\nNottingham: 11am\, Brian Clough Statue. Event here.\nSheffield: 11am\, Barkers Pool. Event here. \nDetails of other actions can be found right here. \nThis week will change Britain forever. Don’t be silent\, don’t be absent – stand up and be counted. \nSee you soon! \nTeam Another Europe
URL:https://ukpen.eu/event/demand-democracy-johnson-out/
CATEGORIES:National
END:VEVENT
END:VCALENDAR