BEGIN:VCALENDAR
VERSION:2.0
PRODID:-//UKPEN.EU - ECPv6.15.20//NONSGML v1.0//EN
CALSCALE:GREGORIAN
METHOD:PUBLISH
X-WR-CALNAME:UKPEN.EU
X-ORIGINAL-URL:https://ukpen.eu
X-WR-CALDESC:Events for UKPEN.EU
REFRESH-INTERVAL;VALUE=DURATION:PT1H
X-Robots-Tag:noindex
X-PUBLISHED-TTL:PT1H
BEGIN:VTIMEZONE
TZID:Europe/London
BEGIN:DAYLIGHT
TZOFFSETFROM:+0000
TZOFFSETTO:+0100
TZNAME:BST
DTSTART:20250330T010000
END:DAYLIGHT
BEGIN:STANDARD
TZOFFSETFROM:+0100
TZOFFSETTO:+0000
TZNAME:GMT
DTSTART:20251026T010000
END:STANDARD
BEGIN:DAYLIGHT
TZOFFSETFROM:+0000
TZOFFSETTO:+0100
TZNAME:BST
DTSTART:20260329T010000
END:DAYLIGHT
BEGIN:STANDARD
TZOFFSETFROM:+0100
TZOFFSETTO:+0000
TZNAME:GMT
DTSTART:20261025T010000
END:STANDARD
BEGIN:DAYLIGHT
TZOFFSETFROM:+0000
TZOFFSETTO:+0100
TZNAME:BST
DTSTART:20270328T010000
END:DAYLIGHT
BEGIN:STANDARD
TZOFFSETFROM:+0100
TZOFFSETTO:+0000
TZNAME:GMT
DTSTART:20271031T010000
END:STANDARD
END:VTIMEZONE
BEGIN:VEVENT
DTSTART;TZID=Europe/London:20260422T181514
DTEND;TZID=Europe/London:20260422T181514
DTSTAMP:20260422T181514
CREATED:20190825T134807Z
LAST-MODIFIED:20190825T134807Z
UID:2288-1776881714-1776881714@ukpen.eu
SUMMARY:Super Sodem Daily Protest
DESCRIPTION:Before it’s too late\, get yourself down to Houses of Parliament every day for as long as you can. Make it as SUPER as you can. We need all support from everywhere. If not now\, when? \n08:00 – 20:00
URL:https://ukpen.eu/event/super-sodem-daily-protest/
CATEGORIES:National
END:VEVENT
BEGIN:VEVENT
DTSTART;TZID=Europe/London:20260422T181514
DTEND;TZID=Europe/London:20260422T181514
DTSTAMP:20260422T181515
CREATED:20190826T084206Z
LAST-MODIFIED:20190826T084206Z
UID:2344-1776881714-1776881714@ukpen.eu
SUMMARY:RALLY Downing Street to Parliament for PMQs
DESCRIPTION:Description:Hosted by SODEM Action We need lots of people at Downing Street at 11am to walk from there round to the House of Commons to #BooTheCoup and #ShameTheCharlatan as he attends his first Prime Minister’s Questions of the new session. People from across the country will be staying in London after yesterday’s SODEM Rally so they can help make this event a day to remember. We hope you can join us too – if you can’t get there for 11am\, it won’t be difficult to find us somewhere along the way! Get your flags\, beurets\, whistles etc. out and put this in your diary!
URL:https://ukpen.eu/event/rally-downing-street-to-parliament/
CATEGORIES:National
END:VEVENT
BEGIN:VEVENT
DTSTART;TZID=Europe/London:20260422T181514
DTEND;TZID=Europe/London:20260422T181514
DTSTAMP:20260422T181515
CREATED:20190904T084659Z
LAST-MODIFIED:20190904T084659Z
UID:2491-1776881714-1776881714@ukpen.eu
SUMMARY:People's Vote Rally (using the slogan "Defend our Democracy")
DESCRIPTION:Boris Johnson is using every dirty trick in the book to force an undemocratic No Deal on the people.  \nThis evening\, in Parliament Square\, thousands of us will let him know that we won’t stand for this. \nMake sure you’re there too. Make your voice is heard before crucial votes in Parliament that will affect all our futures. Make today count. \nI’LL BE THERE   \nWe will gathering at 4.30pm until 8.30pm\, for a mass rally where we’ll be joined by a stellar cross-party line up of speakers including Jess Phillips\, Sadiq Khan\, Dominic Grieve and Jo Swinson. \nBe there for this moment of history. Let’s pack Parliament Square. Tell Boris Johnson you won’t stand for it.
URL:https://ukpen.eu/event/various-organisers-rallies/
CATEGORIES:National
END:VEVENT
BEGIN:VEVENT
DTSTART;TZID=Europe/London:20260422T181514
DTEND;TZID=Europe/London:20260422T181514
DTSTAMP:20260422T181515
CREATED:20190825T223707Z
LAST-MODIFIED:20190825T223707Z
UID:2340-1776881714-1776881714@ukpen.eu
SUMMARY:Attacking Regional Inequality: The Right Brexit Response
DESCRIPTION:Attacking Regional Inequality: The Right Brexit Response\n\n\nby Remain and Reform\n\n\nThe Brexit vote in 2016 was a kickback against a system which does not work for most places in the country. But Brexit will only make this mass inequality\, correctly identified\, worse. \nInstead\, we must take sharp and radical action to fix regional inequality. The alternative is to say that the country was doing fine on this front on this front on June 22nd 2016. It wasn’t. We need to use the wake-up call of the Brexit call to rally round and take the long-needed steps this country needs. \nAt this event\, we’ll discuss how. \nThis will be the first event of our Remain and Reform project\, which is aiming to provide the space for the conversation on what the remain and reform should look like. You can find out more about Remain and Reform here. \nSpeakers – more tbc: \nMiatta Fanbulleh\, Director of New Economics Foundation (speaking in a personal capacity) \nJeffrey Henderson\, Emeritus Professor of International Development\,University of Bristol \nJon Skewes\, Executive Director of External Relations\, Royal College of Midwives \nAndrew Brook\, Author of Remain and Reform’s report on this subject \nMike Buckley\, Director of Labour for a Public Vote and Remain and Reform
URL:https://ukpen.eu/event/attacking-regional-inequality-the-right-brexit-response/
CATEGORIES:National
END:VEVENT
END:VCALENDAR