BEGIN:VCALENDAR
VERSION:2.0
PRODID:-//UKPEN.EU - ECPv6.15.20//NONSGML v1.0//EN
CALSCALE:GREGORIAN
METHOD:PUBLISH
X-WR-CALNAME:UKPEN.EU
X-ORIGINAL-URL:https://ukpen.eu
X-WR-CALDESC:Events for UKPEN.EU
REFRESH-INTERVAL;VALUE=DURATION:PT1H
X-Robots-Tag:noindex
X-PUBLISHED-TTL:PT1H
BEGIN:VTIMEZONE
TZID:Europe/London
BEGIN:DAYLIGHT
TZOFFSETFROM:+0000
TZOFFSETTO:+0100
TZNAME:BST
DTSTART:20250330T010000
END:DAYLIGHT
BEGIN:STANDARD
TZOFFSETFROM:+0100
TZOFFSETTO:+0000
TZNAME:GMT
DTSTART:20251026T010000
END:STANDARD
BEGIN:DAYLIGHT
TZOFFSETFROM:+0000
TZOFFSETTO:+0100
TZNAME:BST
DTSTART:20260329T010000
END:DAYLIGHT
BEGIN:STANDARD
TZOFFSETFROM:+0100
TZOFFSETTO:+0000
TZNAME:GMT
DTSTART:20261025T010000
END:STANDARD
BEGIN:DAYLIGHT
TZOFFSETFROM:+0000
TZOFFSETTO:+0100
TZNAME:BST
DTSTART:20270328T010000
END:DAYLIGHT
BEGIN:STANDARD
TZOFFSETFROM:+0100
TZOFFSETTO:+0000
TZNAME:GMT
DTSTART:20271031T010000
END:STANDARD
END:VTIMEZONE
BEGIN:VEVENT
DTSTART;TZID=Europe/London:20260422T230012
DTEND;TZID=Europe/London:20260422T230012
DTSTAMP:20260422T230012
CREATED:20190825T134807Z
LAST-MODIFIED:20190825T134807Z
UID:2288-1776898812-1776898812@ukpen.eu
SUMMARY:Super Sodem Daily Protest
DESCRIPTION:Before it’s too late\, get yourself down to Houses of Parliament every day for as long as you can. Make it as SUPER as you can. We need all support from everywhere. If not now\, when? \n08:00 – 20:00
URL:https://ukpen.eu/event/super-sodem-daily-protest/
CATEGORIES:National
END:VEVENT
BEGIN:VEVENT
DTSTART;TZID=Europe/London:20260422T230012
DTEND;TZID=Europe/London:20260422T230012
DTSTAMP:20260422T230012
CREATED:20190822T122931Z
LAST-MODIFIED:20190822T122931Z
UID:2213-1776898812-1776898812@ukpen.eu
SUMMARY:Rally outside Parliament
DESCRIPTION:Groups from all over the country are going to join Steve Bray and the Sodem Action regulars when parliament re-convenes on 3 September. \neg: \n“Yorkshire for Europe and Devon for Europe are sending coaches to this rally to support SODEM for the first day of parliament. Who’s joining us? There’s a rally the following day too (some of us are staying over)! Let’s make this loud!” \nFuller details from Yorkshire for Europe: \n#WestminsterRally in support of #SODEM\, Tuesday\, Sept 3rd \nGrassroots groups from Yorkshire & the North\, the Midlands\, Wales\, the South West and London will converge on Parliament on Tuesday September 3rd – the day MPs come back from their summer recess – for what must be one of the most important Parliamentary sittings in our lifetime. \nThe decisions taken over the next two months will have profound implications for our country and our society for generations to come. \nPast Westminster rallies have proved to be very effective in engaging the media/ MPs & peers …and person for person you get a lot more bang for your buck doing this than going on PV march! \nClearly\, this time it’s more important than ever. Please join us\, support Steve Bray and SODEM\, help us put on a show the media and Parliament can’t ignore… and help us Stop Brexit! \nPs Yorks FE will be bring Yorks Remain Voices Choir plus musicians. If you are a singer or musician (or if you know of any) Yorks FE’s musical director\, Arnold\, wd be pleased to hear from you. He has updated pro EU/ anti Brexit songs with musical scores for different parts. \nYorkshire for Europe’s coach is picking up in North Yorks\, West Yorks\, South Yorks & Notts. Tickets just £25 rtn (£20 for students/ unwaged) Reserve yours here https://www.tickettailor.com/events/yorkshireforeurope/292301″ \nRICHARD SADLER\np: 01765 658808 m: 07712 416061 \nNorth Yorkshire for Europe \n@NYorksEurope
URL:https://ukpen.eu/event/rally-outside-parliament/
CATEGORIES:Crunch Days,National
END:VEVENT
BEGIN:VEVENT
DTSTART;TZID=Europe/London:20260422T230012
DTEND;TZID=Europe/London:20260422T230012
DTSTAMP:20260422T230012
CREATED:20190901T194833Z
LAST-MODIFIED:20190901T194833Z
UID:2478-1776898812-1776898812@ukpen.eu
SUMMARY:People's Assembly event with Tariq Ali
DESCRIPTION:Stop Boris Johnson – General Election Now!\n\nPublic \n\n · Hosted by The People’s Assembly Against Austerity
URL:https://ukpen.eu/event/peoples-assembly-event-with-tariq-ali/
CATEGORIES:National
END:VEVENT
END:VCALENDAR