BEGIN:VCALENDAR
VERSION:2.0
PRODID:-//UKPEN.EU - ECPv6.15.20//NONSGML v1.0//EN
CALSCALE:GREGORIAN
METHOD:PUBLISH
X-WR-CALNAME:UKPEN.EU
X-ORIGINAL-URL:https://ukpen.eu
X-WR-CALDESC:Events for UKPEN.EU
REFRESH-INTERVAL;VALUE=DURATION:PT1H
X-Robots-Tag:noindex
X-PUBLISHED-TTL:PT1H
BEGIN:VTIMEZONE
TZID:Europe/London
BEGIN:DAYLIGHT
TZOFFSETFROM:+0000
TZOFFSETTO:+0100
TZNAME:BST
DTSTART:20250330T010000
END:DAYLIGHT
BEGIN:STANDARD
TZOFFSETFROM:+0100
TZOFFSETTO:+0000
TZNAME:GMT
DTSTART:20251026T010000
END:STANDARD
BEGIN:DAYLIGHT
TZOFFSETFROM:+0000
TZOFFSETTO:+0100
TZNAME:BST
DTSTART:20260329T010000
END:DAYLIGHT
BEGIN:STANDARD
TZOFFSETFROM:+0100
TZOFFSETTO:+0000
TZNAME:GMT
DTSTART:20261025T010000
END:STANDARD
BEGIN:DAYLIGHT
TZOFFSETFROM:+0000
TZOFFSETTO:+0100
TZNAME:BST
DTSTART:20270328T010000
END:DAYLIGHT
BEGIN:STANDARD
TZOFFSETFROM:+0100
TZOFFSETTO:+0000
TZNAME:GMT
DTSTART:20271031T010000
END:STANDARD
END:VTIMEZONE
BEGIN:VEVENT
DTSTART;TZID=Europe/London:20260422T235525
DTEND;TZID=Europe/London:20260422T235525
DTSTAMP:20260422T235525
CREATED:20190822T142501Z
LAST-MODIFIED:20190822T142501Z
UID:2230-1776902125-1776902125@ukpen.eu
SUMMARY:Whitehall Watch - Daily Anti-Brexit protest
DESCRIPTION:A daily protest outside The Cabinet Office to let the Brexit Gang know we aren’t going away and we will be heard.
URL:https://ukpen.eu/event/whitehall-watch-daily-anti-brexit-protest/
CATEGORIES:National
END:VEVENT
BEGIN:VEVENT
DTSTART;TZID=Europe/London:20260422T235525
DTEND;TZID=Europe/London:20260422T235525
DTSTAMP:20260422T235525
CREATED:20190828T184129Z
LAST-MODIFIED:20190828T184129Z
UID:2382-1776902125-1776902125@ukpen.eu
SUMMARY:All the other events
DESCRIPTION:Brighton: Bartholomew Square \nChester: \nBristol: \nMilton Keynes station 6pm
URL:https://ukpen.eu/event/all-the-other-events/
CATEGORIES:National
END:VEVENT
BEGIN:VEVENT
DTSTART;TZID=Europe/London:20260422T235525
DTEND;TZID=Europe/London:20260422T235525
DTSTAMP:20260422T235525
CREATED:20190828T134303Z
LAST-MODIFIED:20190828T134303Z
UID:2358-1776902125-1776902125@ukpen.eu
SUMMARY:DEFEND DEMOCRACY Resist the Parliament Shutdown
DESCRIPTION:Another Europe is Possible\, \nBoris Johnson is trying to shut down our democracy to deliver on his Brexit agenda. This is disgraceful\, but we can’t just rely on the courts or parliamentary process to save the day. We all have a duty to stand up and be counted. \nJoin us tonight from 5.30pm on College Green by the George V statue to stand up for democracy and fight against Johnson’s coup. Bring and invite everyone. \nMore protests will follow up and down the country this Saturday.
URL:https://ukpen.eu/event/defend-democracy-resist-the-parliament-shutdown/
CATEGORIES:National
END:VEVENT
END:VCALENDAR