BEGIN:VCALENDAR
VERSION:2.0
PRODID:-//UKPEN.EU - ECPv6.15.20//NONSGML v1.0//EN
CALSCALE:GREGORIAN
METHOD:PUBLISH
X-ORIGINAL-URL:https://ukpen.eu
X-WR-CALDESC:Events for UKPEN.EU
REFRESH-INTERVAL;VALUE=DURATION:PT1H
X-Robots-Tag:noindex
X-PUBLISHED-TTL:PT1H
BEGIN:VTIMEZONE
TZID:Europe/London
BEGIN:DAYLIGHT
TZOFFSETFROM:+0000
TZOFFSETTO:+0100
TZNAME:BST
DTSTART:20250330T010000
END:DAYLIGHT
BEGIN:STANDARD
TZOFFSETFROM:+0100
TZOFFSETTO:+0000
TZNAME:GMT
DTSTART:20251026T010000
END:STANDARD
BEGIN:DAYLIGHT
TZOFFSETFROM:+0000
TZOFFSETTO:+0100
TZNAME:BST
DTSTART:20260329T010000
END:DAYLIGHT
BEGIN:STANDARD
TZOFFSETFROM:+0100
TZOFFSETTO:+0000
TZNAME:GMT
DTSTART:20261025T010000
END:STANDARD
BEGIN:DAYLIGHT
TZOFFSETFROM:+0000
TZOFFSETTO:+0100
TZNAME:BST
DTSTART:20270328T010000
END:DAYLIGHT
BEGIN:STANDARD
TZOFFSETFROM:+0100
TZOFFSETTO:+0000
TZNAME:GMT
DTSTART:20271031T010000
END:STANDARD
END:VTIMEZONE
BEGIN:VEVENT
DTSTART;TZID=Europe/London:20260421T185123
DTEND;TZID=Europe/London:20260421T185123
DTSTAMP:20260421T185123
CREATED:20240413T142419Z
LAST-MODIFIED:20240413T142419Z
UID:8204-1776797483-1776797483@ukpen.eu
SUMMARY:Unlocked with Sir John Curtice
DESCRIPTION:Join UKICE Director Professor Anand Menon for a special conversation with the “doyen of British elections”\, Sir John Curtice. He will reflect on historic election shocks such as 1992\, through to the changes of government in 1997 and 2010. He will also offer an insight into what it is like to crunch the numbers on polling day while the nation awaits the exit poll.
URL:https://ukpen.eu/event/unlocked-with-sir-john-curtice/
CATEGORIES:National
END:VEVENT
END:VCALENDAR