BEGIN:VCALENDAR
VERSION:2.0
PRODID:-//UKPEN.EU - ECPv6.15.20//NONSGML v1.0//EN
CALSCALE:GREGORIAN
METHOD:PUBLISH
X-WR-CALNAME:UKPEN.EU
X-ORIGINAL-URL:https://ukpen.eu
X-WR-CALDESC:Events for UKPEN.EU
REFRESH-INTERVAL;VALUE=DURATION:PT1H
X-Robots-Tag:noindex
X-PUBLISHED-TTL:PT1H
BEGIN:VTIMEZONE
TZID:Europe/London
BEGIN:DAYLIGHT
TZOFFSETFROM:+0000
TZOFFSETTO:+0100
TZNAME:BST
DTSTART:20250330T010000
END:DAYLIGHT
BEGIN:STANDARD
TZOFFSETFROM:+0100
TZOFFSETTO:+0000
TZNAME:GMT
DTSTART:20251026T010000
END:STANDARD
BEGIN:DAYLIGHT
TZOFFSETFROM:+0000
TZOFFSETTO:+0100
TZNAME:BST
DTSTART:20260329T010000
END:DAYLIGHT
BEGIN:STANDARD
TZOFFSETFROM:+0100
TZOFFSETTO:+0000
TZNAME:GMT
DTSTART:20261025T010000
END:STANDARD
BEGIN:DAYLIGHT
TZOFFSETFROM:+0000
TZOFFSETTO:+0100
TZNAME:BST
DTSTART:20270328T010000
END:DAYLIGHT
BEGIN:STANDARD
TZOFFSETFROM:+0100
TZOFFSETTO:+0000
TZNAME:GMT
DTSTART:20271031T010000
END:STANDARD
END:VTIMEZONE
BEGIN:VEVENT
DTSTART;TZID=Europe/London:20260421T184939
DTEND;TZID=Europe/London:20260421T184939
DTSTAMP:20260421T184939
CREATED:20201104T125451Z
LAST-MODIFIED:20201104T125451Z
UID:5253-1776797379-1776797379@ukpen.eu
SUMMARY:Vicky Pryce  Ignore the Myths – Here’s the Maths
DESCRIPTION:A talk on the latest economic analysis in relation to the impact of Brexit after the transition period \nVicky Pryce is the former Joint Head of the United Kingdom’s Government Economic Service and previously Chief Economist at KPMG.  At the LSE\, she gained a BSc in Economics and an MSc in Monetary Economics.  She serves on the Department for Business Innovation and Skills panel.  She co-authored “It’s the Economy\, Stupid: Economics for Voters” and has recently published “Women vs Capitalism: Why We Can’t Have It All in a Free Market Economy”. She is a regular panel member at the LSE European Institute discussions. \nClick this link to register: \nhttps://www.eventbrite.co.uk/e/ignore-the-myths-heres-the-maths-vicky-pryce-the-economics-of-brexit-tickets-124334982279?aff=ebdssbonlinesearch \nMoVEM \nMole Valley European Movement \nTwitter:      https://twitter.com/movem2017 \ntogether with: \nNorth East Surrey for Europe \nEmail: info@NES4EU.co.uk \nFacebook:     https://www.facebook.com/NorthEastSurreyForEurope/
URL:https://ukpen.eu/event/vicky-pryce-ignore-the-myths-heres-the-maths/
CATEGORIES:Local,National,Trade
END:VEVENT
BEGIN:VEVENT
DTSTART;TZID=Europe/London:20260421T184939
DTEND;TZID=Europe/London:20260421T184939
DTSTAMP:20260421T184939
CREATED:20201104T124010Z
LAST-MODIFIED:20201104T124010Z
UID:5242-1776797379-1776797379@ukpen.eu
SUMMARY:Brexit and Covid-19: Their impact on the NHS and Food Production Systems
DESCRIPTION:Details:\nTwo eminent speakers will lead a public webinar at 7:00 pm on 12th November 2020\, organised by European Movement Shropshire: the distinguished neurosurgeon Dr David Nicholl and food scientist and ethicist Professor Ralph Early.\n\nDr David Nicholl is a human rights activist\, fundraiser for Amnesty International\, and online columnist from Belfast\, Northern Ireland.\n\nProfessor Ralph Early is a food scientist and food ethicist.\n\nParticipation is free but small voluntary donations are accepted.\n\nSocial Media: Event details posted on the European Movement Shropshire Facebook page:\nhttps://fb.me/e/1GDl7JmLk
URL:https://ukpen.eu/event/brexit-and-covid-19-their-impact-on-the-nhs-and-food-production-systems/
CATEGORIES:Farming,Food,Local,National,Public Services
END:VEVENT
BEGIN:VEVENT
DTSTART;TZID=Europe/London:20260421T184939
DTEND;TZID=Europe/London:20260421T184939
DTSTAMP:20260421T184939
CREATED:20201104T124523Z
LAST-MODIFIED:20201104T124523Z
UID:5248-1776797379-1776797379@ukpen.eu
SUMMARY:Labour and the Refugee Crisis - Labour for a European Future Members Event
DESCRIPTION:With a huge Tory majority\, the situation for refugees looking for safety on these shores is more dire than ever. Populist fantasies like barriers in the channel and deportation centres thousands of miles away are being spouted – including by the upper echelons of the government. How does Labour respond to this kind of rhetoric and policy? This will be an online meeting for Labour for a European Future members. A Zoom link will be sent out to members before the start of the event. To join LEF for £3 a month\, and access this webinar\, click here: https://donorbox.org/lef-membership By: Labour for a European Future More information: https://www.facebook.com/events/3244937502302708/ Event Online\, Movement Organisation\, National\, Public
URL:https://ukpen.eu/event/labour-and-the-refugee-crisis-labour-for-a-european-future-members-event/
CATEGORIES:Migration,National
END:VEVENT
END:VCALENDAR