BEGIN:VCALENDAR
VERSION:2.0
PRODID:-//UKPEN.EU - ECPv6.15.20//NONSGML v1.0//EN
CALSCALE:GREGORIAN
METHOD:PUBLISH
X-ORIGINAL-URL:https://ukpen.eu
X-WR-CALDESC:Events for UKPEN.EU
REFRESH-INTERVAL;VALUE=DURATION:PT1H
X-Robots-Tag:noindex
X-PUBLISHED-TTL:PT1H
BEGIN:VTIMEZONE
TZID:Europe/London
BEGIN:DAYLIGHT
TZOFFSETFROM:+0000
TZOFFSETTO:+0100
TZNAME:BST
DTSTART:20250330T010000
END:DAYLIGHT
BEGIN:STANDARD
TZOFFSETFROM:+0100
TZOFFSETTO:+0000
TZNAME:GMT
DTSTART:20251026T010000
END:STANDARD
BEGIN:DAYLIGHT
TZOFFSETFROM:+0000
TZOFFSETTO:+0100
TZNAME:BST
DTSTART:20260329T010000
END:DAYLIGHT
BEGIN:STANDARD
TZOFFSETFROM:+0100
TZOFFSETTO:+0000
TZNAME:GMT
DTSTART:20261025T010000
END:STANDARD
BEGIN:DAYLIGHT
TZOFFSETFROM:+0000
TZOFFSETTO:+0100
TZNAME:BST
DTSTART:20270328T010000
END:DAYLIGHT
BEGIN:STANDARD
TZOFFSETFROM:+0100
TZOFFSETTO:+0000
TZNAME:GMT
DTSTART:20271031T010000
END:STANDARD
END:VTIMEZONE
BEGIN:VEVENT
DTSTART;TZID=Europe/London:20260422T084157
DTEND;TZID=Europe/London:20260422T084157
DTSTAMP:20260422T084157
CREATED:20200127T233513Z
LAST-MODIFIED:20200127T233513Z
UID:3823-1776847317-1776847317@ukpen.eu
SUMMARY:Friday Grassroots Events
DESCRIPTION:[siteorigin_widget class=”SiteOrigin_Widget_Hero_Widget”][/siteorigin_widget]
URL:https://ukpen.eu/event/friday-grassroots-events/
CATEGORIES:Local,National
END:VEVENT
BEGIN:VEVENT
DTSTART;TZID=Europe/London:20260422T084157
DTEND;TZID=Europe/London:20260422T084157
DTSTAMP:20260422T084157
CREATED:20191211T121221Z
LAST-MODIFIED:20191211T121221Z
UID:3605-1776847317-1776847317@ukpen.eu
SUMMARY:A night of demonstration for Liberty and Europe - Mark Gitsham
DESCRIPTION:Often-postponed\, this event on Facebook says:\n“On the last night of Britain’s membership of the EU let’s all stand together in solidarity with our European neighbours\, in solidarity\, fighting for understanding and freedom.\nMeet in Parliament Square\, bring flags\, horns and music.”
URL:https://ukpen.eu/event/a-night-of-demonstration-for-liberty-and-europe-mark-gitsham/
CATEGORIES:National
END:VEVENT
BEGIN:VEVENT
DTSTART;TZID=Europe/London:20260422T084157
DTEND;TZID=Europe/London:20260422T084157
DTSTAMP:20260422T084157
CREATED:20191219T161617Z
LAST-MODIFIED:20191219T161617Z
UID:3640-1776847317-1776847317@ukpen.eu
SUMMARY:Refuse to leave the EU\, they can't make us all go
DESCRIPTION:
URL:https://ukpen.eu/event/refuse-to-leave-the-eu-they-cant-make-us-all-go/
CATEGORIES:National
END:VEVENT
BEGIN:VEVENT
DTSTART;TZID=Europe/London:20260422T084157
DTEND;TZID=Europe/London:20260422T084157
DTSTAMP:20260422T084157
CREATED:20200117T193323Z
LAST-MODIFIED:20200117T193323Z
UID:3760-1776847317-1776847317@ukpen.eu
SUMMARY:Labour MEPs: Leaving Brussels and Where Next
DESCRIPTION:As they leave Brussels\, Labour MEPs reflect on the impact for Labour MEPs and the future of UK Europeanism \nOn January 31\, the UK will leave the EU and lose its MEPs\, including 12 brilliant Labour MEPs. To mark the occasion\, we’re bringing together current and former MEPs to reflect on what Labour achieved in Europe and what’s next for Europeanism in the UK. \nSpeakers:\nJulie Ward MEP\nJackie Jones MEP\nNeena Gill MEP\nClare Moody\, former MEP\nMike Buckley\, Director of Labour for a Public Vote\nMore tba.
URL:https://ukpen.eu/event/labour-meps-leaving-brussels-and-where-next/
CATEGORIES:National
END:VEVENT
BEGIN:VEVENT
DTSTART;TZID=Europe/London:20260422T084157
DTEND;TZID=Europe/London:20260422T084157
DTSTAMP:20260422T084157
CREATED:20200210T193701Z
LAST-MODIFIED:20200210T193701Z
UID:3872-1776847317-1776847317@ukpen.eu
SUMMARY:Love in Restless Times
DESCRIPTION:
URL:https://ukpen.eu/event/love-in-restless-times/
CATEGORIES:National
END:VEVENT
END:VCALENDAR