BEGIN:VCALENDAR
VERSION:2.0
PRODID:-//UKPEN.EU - ECPv6.15.20//NONSGML v1.0//EN
CALSCALE:GREGORIAN
METHOD:PUBLISH
X-ORIGINAL-URL:https://ukpen.eu
X-WR-CALDESC:Events for UKPEN.EU
REFRESH-INTERVAL;VALUE=DURATION:PT1H
X-Robots-Tag:noindex
X-PUBLISHED-TTL:PT1H
BEGIN:VTIMEZONE
TZID:Europe/London
BEGIN:DAYLIGHT
TZOFFSETFROM:+0000
TZOFFSETTO:+0100
TZNAME:BST
DTSTART:20250330T010000
END:DAYLIGHT
BEGIN:STANDARD
TZOFFSETFROM:+0100
TZOFFSETTO:+0000
TZNAME:GMT
DTSTART:20251026T010000
END:STANDARD
BEGIN:DAYLIGHT
TZOFFSETFROM:+0000
TZOFFSETTO:+0100
TZNAME:BST
DTSTART:20260329T010000
END:DAYLIGHT
BEGIN:STANDARD
TZOFFSETFROM:+0100
TZOFFSETTO:+0000
TZNAME:GMT
DTSTART:20261025T010000
END:STANDARD
BEGIN:DAYLIGHT
TZOFFSETFROM:+0000
TZOFFSETTO:+0100
TZNAME:BST
DTSTART:20270328T010000
END:DAYLIGHT
BEGIN:STANDARD
TZOFFSETFROM:+0100
TZOFFSETTO:+0000
TZNAME:GMT
DTSTART:20271031T010000
END:STANDARD
END:VTIMEZONE
BEGIN:VEVENT
DTSTART;TZID=Europe/London:20260422T193907
DTEND;TZID=Europe/London:20260422T193907
DTSTAMP:20260422T193907
CREATED:20190822T142501Z
LAST-MODIFIED:20190822T142501Z
UID:2230-1776886747-1776886747@ukpen.eu
SUMMARY:Whitehall Watch - Daily Anti-Brexit protest
DESCRIPTION:A daily protest outside The Cabinet Office to let the Brexit Gang know we aren’t going away and we will be heard.
URL:https://ukpen.eu/event/whitehall-watch-daily-anti-brexit-protest/
CATEGORIES:National
END:VEVENT
BEGIN:VEVENT
DTSTART;TZID=Europe/London:20260422T193907
DTEND;TZID=Europe/London:20260422T193907
DTSTAMP:20260422T193907
CREATED:20190828T184129Z
LAST-MODIFIED:20190828T184129Z
UID:2382-1776886747-1776886747@ukpen.eu
SUMMARY:All the other events
DESCRIPTION:Brighton: Bartholomew Square \nChester: \nBristol: \nMilton Keynes station 6pm
URL:https://ukpen.eu/event/all-the-other-events/
CATEGORIES:National
END:VEVENT
BEGIN:VEVENT
DTSTART;TZID=Europe/London:20260422T193907
DTEND;TZID=Europe/London:20260422T193907
DTSTAMP:20260422T193907
CREATED:20190828T134303Z
LAST-MODIFIED:20190828T134303Z
UID:2358-1776886747-1776886747@ukpen.eu
SUMMARY:DEFEND DEMOCRACY Resist the Parliament Shutdown
DESCRIPTION:Another Europe is Possible\, \nBoris Johnson is trying to shut down our democracy to deliver on his Brexit agenda. This is disgraceful\, but we can’t just rely on the courts or parliamentary process to save the day. We all have a duty to stand up and be counted. \nJoin us tonight from 5.30pm on College Green by the George V statue to stand up for democracy and fight against Johnson’s coup. Bring and invite everyone. \nMore protests will follow up and down the country this Saturday.
URL:https://ukpen.eu/event/defend-democracy-resist-the-parliament-shutdown/
CATEGORIES:National
END:VEVENT
BEGIN:VEVENT
DTSTART;TZID=Europe/London:20260422T193907
DTEND;TZID=Europe/London:20260422T193907
DTSTAMP:20260422T193907
CREATED:20190828T183806Z
LAST-MODIFIED:20190828T183806Z
UID:2379-1776886747-1776886747@ukpen.eu
SUMMARY:All the protests this day: AEIP
DESCRIPTION:Boris Johnson is trying to shut down our democracy so that he can deliver on his Brexit agenda. \nWe we can’t just rely on the courts or parliamentary process to save the day. We all have a duty to stand up and be counted. \nThis Saturday\, we’re organising a nationwide wave of protests. Join us and invite everyone you know. Let’s make it huge. \nBrighton\, 12 pm\, The Level\, BN1 4ZN Event here \nGlasgow\, 2 pm\, George Square. Event here. \nLeeds\, 11 am\, Town Hall. Event here. \nLiverpool\, 12 noon\, St George’s Hall. Event here. \nLondon\, 12 noon\, Downing Street. Event here. \nManchester\, 12 noon\, Cathedral Gardens. Event here. \nNewcastle\, 12 noon\, Grey’s Monument. Event here. \nNottingham\, Brian Clough Statue close to Old Market Square\, 11 am. Event here. \nOxford\, 11 am\, location TBA. Event here. \nSheffield\, 11 am\, Town Hall. Event here. \nYork\, 12 noon\, St Helen’s Square. Event here.
URL:https://ukpen.eu/event/all-the-protests-this-day-aeip/
CATEGORIES:National
END:VEVENT
BEGIN:VEVENT
DTSTART;TZID=Europe/London:20260422T193907
DTEND;TZID=Europe/London:20260422T193907
DTSTAMP:20260422T193907
CREATED:20190829T074036Z
LAST-MODIFIED:20190829T074036Z
UID:2411-1776886747-1776886747@ukpen.eu
SUMMARY:Don’t bypass Parliament!
DESCRIPTION:We will gather in Devizes Market Place with placards\, flags\, banners\, and leaflets from 10am and collect signatures for letters to our MP Rt Hon Claire Perry O’Neill and Brigadier Sharpe\, Chairman of Devizes Conservative Association. We then process to deliver said letters at noon.
URL:https://ukpen.eu/event/dont-bypass-parliament/
CATEGORIES:National
END:VEVENT
END:VCALENDAR