BEGIN:VCALENDAR
VERSION:2.0
PRODID:-//UKPEN.EU - ECPv6.15.20//NONSGML v1.0//EN
CALSCALE:GREGORIAN
METHOD:PUBLISH
X-WR-CALNAME:UKPEN.EU
X-ORIGINAL-URL:https://ukpen.eu
X-WR-CALDESC:Events for UKPEN.EU
REFRESH-INTERVAL;VALUE=DURATION:PT1H
X-Robots-Tag:noindex
X-PUBLISHED-TTL:PT1H
BEGIN:VTIMEZONE
TZID:Europe/London
BEGIN:DAYLIGHT
TZOFFSETFROM:+0000
TZOFFSETTO:+0100
TZNAME:BST
DTSTART:20250330T010000
END:DAYLIGHT
BEGIN:STANDARD
TZOFFSETFROM:+0100
TZOFFSETTO:+0000
TZNAME:GMT
DTSTART:20251026T010000
END:STANDARD
BEGIN:DAYLIGHT
TZOFFSETFROM:+0000
TZOFFSETTO:+0100
TZNAME:BST
DTSTART:20260329T010000
END:DAYLIGHT
BEGIN:STANDARD
TZOFFSETFROM:+0100
TZOFFSETTO:+0000
TZNAME:GMT
DTSTART:20261025T010000
END:STANDARD
BEGIN:DAYLIGHT
TZOFFSETFROM:+0000
TZOFFSETTO:+0100
TZNAME:BST
DTSTART:20270328T010000
END:DAYLIGHT
BEGIN:STANDARD
TZOFFSETFROM:+0100
TZOFFSETTO:+0000
TZNAME:GMT
DTSTART:20271031T010000
END:STANDARD
END:VTIMEZONE
BEGIN:VEVENT
DTSTART;TZID=Europe/London:20260423T083036
DTEND;TZID=Europe/London:20260423T083036
DTSTAMP:20260423T083036
CREATED:20250618T202600Z
LAST-MODIFIED:20250618T202600Z
UID:8494-1776933036-1776933036@ukpen.eu
SUMMARY:The Expert Factor Live!
DESCRIPTION:Hannah White\, Paul Johnson and Anand Menon will be reunited on stage to record a special live episode of The Expert Factor. \nNine years to the day since the UK voted to leave the EU\, as the directors of three of the UK’s leading think tanks – the Institute for Government\, the Institute for Fiscal Studies and UK in a Changing Europe – get to together to discuss\, explore and explain the big questions facing Keir Starmer’s Labour government and Britain’s opposition parties in an increasingly unpredictable world. \nAlso available online.
URL:https://ukpen.eu/event/the-expert-factor-live/
CATEGORIES:Webinar
END:VEVENT
END:VCALENDAR